BEGIN:VCALENDAR
VERSION:2.0
PRODID:-//wp-events-plugin.com//7.2.3.1//EN
TZID:America/Los_Angeles
X-WR-TIMEZONE:America/Los_Angeles
BEGIN:VEVENT
UID:1669@treglobal.org
DTSTART;TZID=America/Los_Angeles:20160626T150000
DTEND;TZID=America/Los_Angeles:20160626T163000
DTSTAMP:20160616T223015Z
URL:https://treglobal.org/event/venice-california-tre-workshop-open-to-the
 -public-6/
SUMMARY:Venice California\, TRE workshop (open to the public)
DESCRIPTION:https://tretickets.yapsody.com/event/index/42630/tre-class-june
 -26-surya-yoga-venice
CATEGORIES:Intro Workshops / Recurring Classes / Online Events
LOCATION:Surya Yoga\, 1501 Main Street\, Venice\, 90291\, United States
GEO:33.9884419;-118.47162989999998
X-APPLE-STRUCTURED-LOCATION;VALUE=URI;X-ADDRESS=1501 Main Street\, Venice\,
  90291\, United States;X-APPLE-RADIUS=100;X-TITLE=Surya Yoga:geo:33.988441
 9,-118.47162989999998
END:VEVENT
BEGIN:VTIMEZONE
TZID:America/Los_Angeles
X-LIC-LOCATION:America/Los_Angeles
BEGIN:DAYLIGHT
DTSTART:20160313T030000
TZOFFSETFROM:-0800
TZOFFSETTO:-0700
TZNAME:PDT
END:DAYLIGHT
END:VTIMEZONE
END:VCALENDAR