BEGIN:VCALENDAR
VERSION:2.0
PRODID:-//wp-events-plugin.com//7.2.3.1//EN
TZID:America/Los_Angeles
X-WR-TIMEZONE:America/Los_Angeles
BEGIN:VEVENT
UID:1655@treglobal.org
DTSTART;TZID=America/Los_Angeles:20160709T100000
DTEND;TZID=America/Los_Angeles:20160709T120000
DTSTAMP:20160526T022015Z
URL:https://treglobal.org/event/tucson-arizona-tre-intro-workshop-open-to-
 the-general-public/
SUMMARY:Tucson\, Arizona - TRE Intro Workshop (open to the general public)
DESCRIPTION:TRE Introductory WorkshopTension and Trauma Releasing Exercises
   In this workshop\, we will be teaching a method for releasing negative 
 energy which has been held in the body. TRE (tension and trauma releasing 
 exercises) is a set of 7 physical exercises which evoke a tremoring or sha
 king response in the body. They are easily learned and can be done on your
  own at home to promote self-healing. The tremoring allows the body to rel
 ease stress and trauma at very deep levels. TRE is already being successfu
 lly used in 35 countries and is currently being introduced into the USA. T
 RE can be an excellent adjunct to psychotherapy since it allows the body t
 o release the accumulated stress and trauma rapidly and non-verbally. It i
 s also a wonderful tool for therapist self-care. Please wear comfortable c
 lothes and bring a yoga mat\, towel AND blanket and water.Date:  Saturday
 \, July 9\, 201610:00 AM to noonCost:  $40.   SPACE IS LIMITED.  PRE-RE
 GISTRATION REQUIREDLocation:  Caritas Center for Healing\, 330 E 16th Str
 eet\, Tucson\, AZFor more info or to register:  amychampeau@gmail.com  2
 62.4120640 oreverett.ogawa@gmail.com  773.318.7787Check out:  www.tretuc
 son.comTaught by:  Everett Ogawa - Founder of Integral Bodywork®\, a 10-
 session method of structural integration.  Certified TRE provider.  M.A.
  in Buddhist and Western Psychology from Naropa University in 1978.  Trai
 ning in Zen since 1980.  www.integralbodywork.comAmy Sprague Champeau\, M
 S\, LMFT - Jungian psychoanalyst\, staff therapist in the trauma departmen
 t at the Family Institute at Northwestern University\, certified TRE and E
 MDR provider\, certified practitioner in Integral Bodywork® and long-time
  practitioner of Zen meditation\; www.amychampeau.com\; www.somaandpsychet
 ucson.com\, .
CATEGORIES:Intro Workshops / Recurring Classes / Online Events
LOCATION:Caritas Center for Healing\, 330 E 16th Street\, Tucson\, Arizona\
 , 85701\, Pima County\, United States
GEO:32.2144019;-110.96497529999999
X-APPLE-STRUCTURED-LOCATION;VALUE=URI;X-ADDRESS=330 E 16th Street\, Tucson\
 , Arizona\, 85701\, Pima County\, United States;X-APPLE-RADIUS=100;X-TITLE
 =Caritas Center for Healing:geo:32.2144019,-110.96497529999999
END:VEVENT
BEGIN:VTIMEZONE
TZID:America/Los_Angeles
X-LIC-LOCATION:America/Los_Angeles
BEGIN:DAYLIGHT
DTSTART:20160313T030000
TZOFFSETFROM:-0800
TZOFFSETTO:-0700
TZNAME:PDT
END:DAYLIGHT
END:VTIMEZONE
END:VCALENDAR