BEGIN:VCALENDAR
VERSION:2.0
PRODID:-//wp-events-plugin.com//7.2.3.1//EN
TZID:America/Los_Angeles
X-WR-TIMEZONE:America/Los_Angeles
BEGIN:VEVENT
UID:1656@treglobal.org
DTSTART;TZID=America/Los_Angeles:20160806T100000
DTEND;TZID=America/Los_Angeles:20160806T120000
DTSTAMP:20160526T022631Z
URL:https://treglobal.org/event/tucson-arizona-tre-intro-workshop-open-to-
 the-general-public-2/
SUMMARY:Tucson\, Arizona - TRE Intro Workshop (open to the general public)
DESCRIPTION:TRE Introductory WorkshopTension and Trauma Releasing Exercises
   In this workshop\, we will be teaching a method for releasing negative
  energy which has been held in the body. TRE (tension and trauma releasing
  exercises) is a set of 7 physical exercises which evoke a tremoring or sh
 aking response in the body. They are easily learned and can be done on you
 r own at home to promote self-healing. The tremoring allows the body to re
 lease stress and trauma at very deep levels. TRE is already being successf
 ully used in 35 countries and is currently being introduced into the USA. 
 TRE can be an excellent adjunct to psychotherapy since it allows the body 
 to release the accumulated stress and trauma rapidly and non-verbally. It 
 is also a wonderful tool for therapist self-care. Please wear comfortable 
 clothes and bring a yoga mat\, towel AND blanket and water.Date:  Saturda
 y\, August 6\, 201610:00 AM to noonCost:  $40.   SPACE IS LIMITED.  PRE
 -REGISTRATION REQUIREDLocation:  Caritas Center for Healing\, 330 E 16th 
 Street\, Tucson\, AZFor more info or to register:  amychampeau@gmail.com
   262.4120640 oreverett.ogawa@gmail.com  773.318.7787Check out:  www.tr
 etucson.comTaught by:  Everett Ogawa - Founder of Integral Bodywork®\, 
 a 10-session method of structural integration.  Certified TRE provider. 
  M.A. in Buddhist and Western Psychology from Naropa University in 1978. 
  Training in Zen since 1980.  www.integralbodywork.comAmy Sprague Champe
 au\, MS\, LMFT - Jungian psychoanalyst\, staff therapist in the trauma de
 partment at the Family Institute at Northwestern University\, certified TR
 E and EMDR provider\, certified practitioner in Integral Bodywork® and lo
 ng-time practitioner of Zen meditation\; www.amychampeau.com\; www.somaa
 ndpsychetucson.com\, .
CATEGORIES:Intro Workshops / Recurring Classes / Online Events
LOCATION:Caritas Center for Healing\, 330 E 16th Street\, Tucson\, Arizona\
 , 85701\, Pima County\, United States
GEO:32.2144019;-110.96497529999999
X-APPLE-STRUCTURED-LOCATION;VALUE=URI;X-ADDRESS=330 E 16th Street\, Tucson\
 , Arizona\, 85701\, Pima County\, United States;X-APPLE-RADIUS=100;X-TITLE
 =Caritas Center for Healing:geo:32.2144019,-110.96497529999999
END:VEVENT
BEGIN:VTIMEZONE
TZID:America/Los_Angeles
X-LIC-LOCATION:America/Los_Angeles
BEGIN:DAYLIGHT
DTSTART:20160313T030000
TZOFFSETFROM:-0800
TZOFFSETTO:-0700
TZNAME:PDT
END:DAYLIGHT
END:VTIMEZONE
END:VCALENDAR