BEGIN:VCALENDAR
VERSION:2.0
PRODID:-//wp-events-plugin.com//7.2.3.1//EN
TZID:America/Los_Angeles
X-WR-TIMEZONE:America/Los_Angeles
BEGIN:VEVENT
UID:1565@treglobal.org
DTSTART;TZID=America/Los_Angeles:20160518T173000
DTEND;TZID=America/Los_Angeles:20160518T193000
DTSTAMP:20160305T014906Z
URL:https://treglobal.org/event/tucson-arizona-tre-intro-workshop-open-to-
 general-public-4/
SUMMARY:Tucson\, Arizona - TRE Intro Workshop (open to general public)
DESCRIPTION:TRE - Stress\, Tension and Trauma Releasing ExercisesIn this wo
 rkshop\, we will be teaching a method for releasing negative energy which 
 has been held in the body. TRE (tension and trauma releasing exercises) is
  a set of 7 physical exercises which evoke a tremoring or shaking response
  in the body. They are easily learned and can be done on your own at home 
 to promote self-healing. The tremoring allows the body to release stress a
 nd trauma at very deep levels. TRE is already being successfully used in 3
 5 countries and is currently being introduced into the USA. TRE can be an 
 excellent adjunct to psychotherapy or psychoanalysis since it allows the b
 ody to release the accumulated stress and trauma rapidly and non-verbally.
  It is also a wonderful tool for therapist self-care. Please wear comforta
 ble clothes and bring a yoga mat\, towel or blanket\, and water. Wednesda
 y\, May 18\, 2016  :  5:30 to 7:30 PMLocation:  Palo Santo Psychotherap
 y and Wellness\, 3045 N First Ave\, Tucson\, AZCost:         $35To reg
 ister or for questions: amychampeau@gmail.com or everett.ogawa@gmail.comTa
 ught by:   Everett Ogawa\, M.A. - Certified TRE provider\; founder of Int
 egral Bodywork\, a 10-sessions method of structural integration\; training
  in Zen since 1980.   www.integralbodywork.com.                 
      and                   Amy Sprague Champeau\, LMFT - Certi
 fied TRE provider\; Jungian psychoanalyst\; licensed marriage and family t
 herapist\; somatic psychotherapist\; zen meditation practitioner\; mother 
 and grandmother.  www.amychampeau.com 
CATEGORIES:Intro Workshops / Recurring Classes / Online Events
LOCATION:Palo Santo Psychotherapy and Wellness\, 3045 N First Ave\, Tucson\
 , Arizona\, 85719\, United States
GEO:32.2623644;-110.96127519999999
X-APPLE-STRUCTURED-LOCATION;VALUE=URI;X-ADDRESS=3045 N First Ave\, Tucson\,
  Arizona\, 85719\, United States;X-APPLE-RADIUS=100;X-TITLE=Palo Santo Psy
 chotherapy and Wellness:geo:32.2623644,-110.96127519999999
END:VEVENT
BEGIN:VTIMEZONE
TZID:America/Los_Angeles
X-LIC-LOCATION:America/Los_Angeles
BEGIN:DAYLIGHT
DTSTART:20160313T030000
TZOFFSETFROM:-0800
TZOFFSETTO:-0700
TZNAME:PDT
END:DAYLIGHT
END:VTIMEZONE
END:VCALENDAR