BEGIN:VCALENDAR
VERSION:2.0
PRODID:-//wp-events-plugin.com//7.2.3.1//EN
TZID:America/Los_Angeles
X-WR-TIMEZONE:America/Los_Angeles
BEGIN:VEVENT
UID:1548@treglobal.org
DTSTART;TZID=America/Los_Angeles:20160310T173000
DTEND;TZID=America/Los_Angeles:20160310T193000
DTSTAMP:20160223T004251Z
URL:https://treglobal.org/event/tucson-arizona-tre-intro-workshop-open-to-
 general-public-3/
SUMMARY:Tucson\, Arizona - TRE Intro Workshop (open to general public)
DESCRIPTION:TRE - Stress\, Tension and Trauma Releasing Exercises In this 
 workshop\, we will be teaching a method for releasing negative energy whic
 h has been held in the body. TRE (tension and trauma releasing exercises) 
 is a set of 7 physical exercises which evoke a tremoring or shaking respon
 se in the body. They are easily learned and can be done on your own at hom
 e to promote self-healing. The tremoring allows the body to release stress
  and trauma at very deep levels. TRE is already being successfully used in
  35 countries and is currently being introduced into the USA. TRE can be a
 n excellent adjunct to psychotherapy or psychoanalysis since it allows the
  body to release the accumulated stress and trauma rapidly and non-verball
 y. It is also a wonderful tool for therapist self-care. Please wear comfor
 table clothes and bring a yoga mat\, towel or blanket\, and water.  Thur
 sday\, March 10\, 2016  :  5:30 to 7:30 PM Location:  Palo Santo Psych
 otherapy and Wellness\, 3045 N First Ave\, Tucson\, AZCost:         $3
 5To register or for questions: amychampeau@gmail.comTaught by:  Amy Spra
 gue Champeau\, LMFT - Certified TRE provider\; Jungian psychoanalyst\; lic
 ensed marriage and family therapist\; zen meditation practitioner.  www.a
 mychampeau.com 
CATEGORIES:Intro Workshops / Recurring Classes / Online Events
LOCATION:Palo Santo Psychotherapy and Wellness\, 3045 N First Ave\, Tucson\
 , AZ\, 85719\, United States
GEO:32.2623644;-110.96127519999999
X-APPLE-STRUCTURED-LOCATION;VALUE=URI;X-ADDRESS=3045 N First Ave\, Tucson\,
  AZ\, 85719\, United States;X-APPLE-RADIUS=100;X-TITLE=Palo Santo Psychoth
 erapy and Wellness:geo:32.2623644,-110.96127519999999
END:VEVENT
BEGIN:VTIMEZONE
TZID:America/Los_Angeles
X-LIC-LOCATION:America/Los_Angeles
BEGIN:STANDARD
DTSTART:20151101T010000
TZOFFSETFROM:-0700
TZOFFSETTO:-0800
TZNAME:PST
END:STANDARD
END:VTIMEZONE
END:VCALENDAR