BEGIN:VCALENDAR
VERSION:2.0
PRODID:-//wp-events-plugin.com//7.2.3.1//EN
TZID:America/Los_Angeles
X-WR-TIMEZONE:America/Los_Angeles
BEGIN:VEVENT
UID:1252@treglobal.org
DTSTART;TZID=America/Los_Angeles:20150704T100000
DTEND;TZID=America/Los_Angeles:20150704T170000
DTSTAMP:20150629T115232Z
URL:https://treglobal.org/event/tre-workshop-2/
SUMMARY:TRE™ WORKSHOP
DESCRIPTION:Full-day TRE workshop Saturday July 4 - from 10am to 5pm.Price 
 €80.  For location and payment details\, email  raymondlambert@eircom.
 net
ATTACH;FMTTYPE=image/jpeg:https://treglobal.org/wp-content/uploads/2015/06
 /6-images-TRE-Ireland-website-twitter-facebook-logo3-640x221.jpg
CATEGORIES:Intro Workshops / Recurring Classes / Online Events
LOCATION:DUBLIN\, Ireland\, Dublin\, Inchicore\, Ireland
GEO:53.3349744;-6.332054699999958
X-APPLE-STRUCTURED-LOCATION;VALUE=URI;X-ADDRESS=Dublin\, Inchicore\, Irelan
 d;X-APPLE-RADIUS=100;X-TITLE=DUBLIN\, Ireland:geo:53.3349744,-6.3320546999
 99958
END:VEVENT
BEGIN:VTIMEZONE
TZID:America/Los_Angeles
X-LIC-LOCATION:America/Los_Angeles
BEGIN:DAYLIGHT
DTSTART:20150308T030000
TZOFFSETFROM:-0800
TZOFFSETTO:-0700
TZNAME:PDT
END:DAYLIGHT
END:VTIMEZONE
END:VCALENDAR