BEGIN:VCALENDAR
VERSION:2.0
PRODID:-//wp-events-plugin.com//7.2.3.1//EN
TZID:America/Los_Angeles
X-WR-TIMEZONE:America/Los_Angeles
BEGIN:VEVENT
UID:5856@treglobal.org
DTSTART;TZID=Europe/London:20230527T110000
DTEND;TZID=Europe/London:20230527T130000
DTSTAMP:20230511T111044Z
URL:https://treglobal.org/event/tre-trauma-release-exercises-workshop-with
 -zari-love-at-the-life-centre-north/
SUMMARY:TRE (Trauma Release Exercises) workshop with Zari Love at the Life 
 Centre North
DESCRIPTION:TRE™ (Tension &amp\; Trauma Releasing Exercises) is a powerfu
 l method for experiencing relief from stress\, anxiety and trauma\, by rel
 easing deeply held tension in the body.\n\nIn this workshop you will learn
  a set of seven exercises designed to fatigue the muscles\, invoking the b
 ody’s innate ability to shake. After the exercises we then lie on the ma
 t\, remaining present\, and allowing the tremors to move through the body 
 naturally. Most people report a feeling of relaxation while doing TRE™ a
 nd others experience a physical or emotional release during the session.\n
 \nA 2-hour introduction to the TRE process. Shake out the past and embrace
  your present awakened\, aliveness .
ATTACH;FMTTYPE=image/jpeg:https://treglobal.org/wp-content/uploads/2023/05
 /Unknown-1.jpeg
CATEGORIES:Intro Workshops / Recurring Classes / Online Events
LOCATION:The Life Centre North\, 293A Deansgate \, manchester city centre \
 , lancashire \, M3 4EW\, United Kingdom
X-APPLE-STRUCTURED-LOCATION;VALUE=URI;X-ADDRESS=293A Deansgate \, mancheste
 r city centre \, lancashire \, M3 4EW\, United Kingdom;X-APPLE-RADIUS=100;
 X-TITLE=The Life Centre North:geo:0,0
END:VEVENT
BEGIN:VTIMEZONE
TZID:Europe/London
X-LIC-LOCATION:Europe/London
BEGIN:DAYLIGHT
DTSTART:20230326T020000
TZOFFSETFROM:+0000
TZOFFSETTO:+0100
TZNAME:BST
END:DAYLIGHT
END:VTIMEZONE
END:VCALENDAR