BEGIN:VCALENDAR
VERSION:2.0
PRODID:-//wp-events-plugin.com//7.2.3.1//EN
TZID:America/Los_Angeles
X-WR-TIMEZONE:America/Los_Angeles
BEGIN:VEVENT
UID:5822@treglobal.org
DTSTART;TZID=America/New_York:20230402T160000
DTEND;TZID=America/New_York:20230402T180000
DTSTAMP:20230313T174942Z
URL:https://treglobal.org/event/tre-tension-trauma-releasing-exercises-an-
 introductory-workshop/
SUMMARY:TRE (Tension &amp\; Trauma Releasing Exercises): An Introductory Wo
 rkshop
DESCRIPTION:Learn the easy &amp\; helpful technique of TRE\, a self-regulat
 ion method can be done on your own at any time after you are familiar with
  the process. This natural reflex releases deep tension from the body by e
 voking shaking of the muscles and soft tissue.\n\nIn this 2-hr workshop yo
 u will learn:\n\n 	Some of the neurology behind the tremoring\n 	How to su
 pport the body with props\n 	We will tremor two times.\n\nBeginners and ex
 perienced participants welcome!\n\nSUNDAY 4/ 2\n\n4-6 PM\n\n$45\n\nin the 
 salt cave\n\nMORE INFO AND SIGN UP: SAULTHAUS.COM\n\n155 HOPEWELL PRINCETO
 N ROAD\n\nHOPEWELL\, NJ\, 08525\,
CATEGORIES:Intro Workshops / Recurring Classes / Online Events
LOCATION:https://www.saulthaus.com/
END:VEVENT
BEGIN:VTIMEZONE
TZID:America/New_York
X-LIC-LOCATION:America/New_York
BEGIN:DAYLIGHT
DTSTART:20230312T030000
TZOFFSETFROM:-0500
TZOFFSETTO:-0400
TZNAME:EDT
END:DAYLIGHT
END:VTIMEZONE
END:VCALENDAR