BEGIN:VCALENDAR
VERSION:2.0
PRODID:-//wp-events-plugin.com//7.2.3.1//EN
TZID:America/Los_Angeles
X-WR-TIMEZONE:America/Los_Angeles
BEGIN:VEVENT
UID:5823@treglobal.org
DTSTART;TZID=America/New_York:20230429T190000
DTEND;TZID=America/New_York:20230429T200000
DTSTAMP:20230313T174842Z
URL:https://treglobal.org/event/tre-tension-trauma-releasing-exercises-a-g
 roup-shake-session/
SUMMARY:TRE (Tension &amp\; Trauma Releasing Exercises): A group shake sess
 ion
DESCRIPTION:Learn the easy &amp\; helpful technique of TRE\,a self-regulati
 on method can be done on your own at any time after you are familiar with 
 the process. This natural reflex releases deep tension from the body by ev
 oking shaking of the muscles and soft tissue.\n\nIn this 1-hr workship we 
 will learn the preparation exercises and tremor. There will be time for qu
 estions and answers afterward. Beginner and experienced participants welco
 me.\n\nSUNDAY 4/29\n\n7-8 PM\n\n$25\n\nin the salt cave\n\n155 HOPEWELL PR
 INCETON ROAD\n\nHOPEWELL\, NJ\, 08525
CATEGORIES:Intro Workshops / Recurring Classes / Online Events
LOCATION:http://SAULTHAUS.COM
END:VEVENT
BEGIN:VTIMEZONE
TZID:America/New_York
X-LIC-LOCATION:America/New_York
BEGIN:DAYLIGHT
DTSTART:20230312T030000
TZOFFSETFROM:-0500
TZOFFSETTO:-0400
TZNAME:EDT
END:DAYLIGHT
END:VTIMEZONE
END:VCALENDAR