BEGIN:VCALENDAR
VERSION:2.0
PRODID:-//wp-events-plugin.com//7.2.3.1//EN
TZID:America/Los_Angeles
X-WR-TIMEZONE:America/Los_Angeles
BEGIN:VEVENT
UID:6107@treglobal.org
DTSTART;TZID=Europe/London:20241110T143000
DTEND;TZID=Europe/London:20241110T170000
DTSTAMP:20241016T110015Z
URL:https://treglobal.org/event/tre-small-group-workshop-in-person-with-ch
 andani-statesofhealing-london-uk-2/
SUMMARY:TRE Small Group Workshop (In-Person) with Chandani @statesofhealing
 \, London UK
DESCRIPTION:Introductory Workshop\n\nSunday 10 November 2:30 - 5pm\n\nDetai
 ls and booking: https://fienta.com/tre-workshop\n\nEmail statesofhealing@g
 mail.com for further information.
CATEGORIES:Intro Workshops / Recurring Classes / Online Events
LOCATION:The Practice Rooms Islington\, 150 Caledonian Road\, London\, N1 9
 RD\, United Kingdom
X-APPLE-STRUCTURED-LOCATION;VALUE=URI;X-ADDRESS=150 Caledonian Road\, Londo
 n\, N1 9RD\, United Kingdom;X-APPLE-RADIUS=100;X-TITLE=The Practice Rooms 
 Islington:geo:0,0
END:VEVENT
BEGIN:VTIMEZONE
TZID:Europe/London
X-LIC-LOCATION:Europe/London
BEGIN:STANDARD
DTSTART:20241027T010000
TZOFFSETFROM:+0100
TZOFFSETTO:+0000
TZNAME:GMT
END:STANDARD
END:VTIMEZONE
END:VCALENDAR