BEGIN:VCALENDAR
VERSION:2.0
PRODID:-//wp-events-plugin.com//7.2.3.1//EN
TZID:America/Los_Angeles
X-WR-TIMEZONE:America/Los_Angeles
BEGIN:VEVENT
UID:5827@treglobal.org
DTSTART;TZID=America/Denver:20231227T183000
DTEND;TZID=America/Denver:20231227T193000
DTSTAMP:20231214T041216Z
URL:https://treglobal.org/event/tre-review-class-2/
SUMMARY:TRE™ Review Class
DESCRIPTION:This is a one hour class in the TRE sequence for those whom hav
 e taken an Introduction to TRE previously.  For more questions contact Na
 dine at nadine@movementlab.dance
ATTACH;FMTTYPE=image/jpeg:https://treglobal.org/wp-content/uploads/2023/03
 /IMG_5083.jpg
CATEGORIES:Intro Workshops / Recurring Classes / Online Events
LOCATION:https://shop.movementlab.dance/products/tension-and-trauma-release
 -exercises-tre%C2%AE-online-class-review
END:VEVENT
BEGIN:VTIMEZONE
TZID:America/Denver
X-LIC-LOCATION:America/Denver
BEGIN:STANDARD
DTSTART:20231105T010000
TZOFFSETFROM:-0600
TZOFFSETTO:-0700
TZNAME:MST
END:STANDARD
END:VTIMEZONE
END:VCALENDAR