BEGIN:VCALENDAR
VERSION:2.0
PRODID:-//wp-events-plugin.com//7.2.3.1//EN
TZID:America/Los_Angeles
X-WR-TIMEZONE:America/Los_Angeles
BEGIN:VEVENT
UID:5912@treglobal.org
DTSTART;TZID=Europe/London:20230904T180000
DTEND;TZID=Europe/London:20230904T193000
DTSTAMP:20230817T165419Z
URL:https://treglobal.org/event/tre-provider-trainee-group-shake/
SUMMARY:TRE Provider &amp\; Trainee Group Shake
DESCRIPTION:Shake\, share and connect in community.\n\nThis monthly group o
 n the first Monday of the month provides the space to come together as TRE
  Providers and Trainees to explore new ways of shaking and releasing toget
 her. The group is in the Train TRE style of sharing\, learning\, connectin
 g and exploring in small groups and is facilitated by Deborah Brown\, TRE 
 Certification Trainer.\n\nBooking via the link above.
ATTACH;FMTTYPE=image/jpeg:https://treglobal.org/wp-content/uploads/2023/08
 /Provider-small.jpg
CATEGORIES:Intro Workshops / Recurring Classes / Online Events
LOCATION:https://www.deborah-brown.co.uk/booking-calendar/tre-trainee-and-p
 rovider-group-shake?referral=service_list_widget
END:VEVENT
BEGIN:VTIMEZONE
TZID:Europe/London
X-LIC-LOCATION:Europe/London
BEGIN:DAYLIGHT
DTSTART:20230326T020000
TZOFFSETFROM:+0000
TZOFFSETTO:+0100
TZNAME:BST
END:DAYLIGHT
END:VTIMEZONE
END:VCALENDAR