BEGIN:VCALENDAR
VERSION:2.0
PRODID:-//wp-events-plugin.com//7.2.3.1//EN
TZID:America/Los_Angeles
X-WR-TIMEZONE:America/Los_Angeles
BEGIN:VEVENT
UID:5914@treglobal.org
DTSTART;TZID=Europe/London:20231106T180000
DTEND;TZID=Europe/London:20231106T193000
DTSTAMP:20230817T165719Z
URL:https://treglobal.org/event/tre-provider-trainee-group-shake-3/
SUMMARY:TRE Provider &amp\; Trainee Group Shake
DESCRIPTION:Shake\, share and connect in community.\n\nThis monthly group o
 n the first Monday of the month provides the space to come together as TRE
  Providers and Trainees to explore new ways of shaking and releasing toget
 her. The group is in the Train TRE style of sharing\, learning\, connectin
 g and exploring in small groups and is facilitated by Deborah Brown\, TRE 
 Certification Trainer.\n\nBooking via the link above.
ATTACH;FMTTYPE=image/jpeg:https://treglobal.org/wp-content/uploads/2023/08
 /Provider-small-2.jpg
CATEGORIES:Intro Workshops / Recurring Classes / Online Events
LOCATION:https://www.deborah-brown.co.uk/booking-calendar/tre-trainee-and-p
 rovider-group-shake?referral=service_list_widget
END:VEVENT
BEGIN:VTIMEZONE
TZID:Europe/London
X-LIC-LOCATION:Europe/London
BEGIN:STANDARD
DTSTART:20231029T010000
TZOFFSETFROM:+0100
TZOFFSETTO:+0000
TZNAME:GMT
END:STANDARD
END:VTIMEZONE
END:VCALENDAR