BEGIN:VCALENDAR
VERSION:2.0
PRODID:-//wp-events-plugin.com//7.2.3.1//EN
TZID:America/Los_Angeles
X-WR-TIMEZONE:America/Los_Angeles
BEGIN:VEVENT
UID:6067@treglobal.org
DTSTART;TZID=America/Edmonton;VALUE=DATE:20241018
DTEND;TZID=America/Edmonton;VALUE=DATE:20241021
DTSTAMP:20240621T154018Z
URL:https://treglobal.org/event/tre-online-hybrid-global-certification-tra
 ining-module-1-canada/
SUMMARY:TRE™ Online (hybrid) Global Certification Training Module 1  – 
 [Canada]
DESCRIPTION:Welcome\,\n\nThis Module 1 will take place online:\n\nOct 18\, 
 2024 from 3-6 pm (MDT)\n\nOct 19-20\, 2024 from 9 am-3:30 pm (MDT)\n\n&nbs
 p\;\n\nCome join Wendy Morley (TRE-CT) and Sara Clark (TRE-CT) for an enri
 ching weekend of learning exploring your personal practice with TRE.\n\nPl
 ease note if you are interested in becoming a globally certified TRE Provi
 der\, this offering is a hybrid (module 1: online\, Module 2: in-person Ca
 lgary\, AB. Module 3: online) providing you both online and in person expe
 riences.
CATEGORIES:Online TRE® Certification Trainings
LOCATION:https://www.saraclark.ca/service-page/tre-module-1-for-personal-pr
 actice-1
END:VEVENT
BEGIN:VTIMEZONE
TZID:America/Edmonton
X-LIC-LOCATION:America/Edmonton
BEGIN:DAYLIGHT
DTSTART:20240310T030000
TZOFFSETFROM:-0700
TZOFFSETTO:-0600
TZNAME:MDT
END:DAYLIGHT
END:VTIMEZONE
END:VCALENDAR