BEGIN:VCALENDAR
VERSION:2.0
PRODID:-//wp-events-plugin.com//7.2.3.1//EN
TZID:America/Los_Angeles
X-WR-TIMEZONE:America/Los_Angeles
BEGIN:VEVENT
UID:5821@treglobal.org
DTSTART;TZID=America/New_York:20230923T100000
DTEND;TZID=America/New_York:20230924T170000
DTSTAMP:20230310T165121Z
URL:https://treglobal.org/event/tre-online-global-certification-training-m
 odule-1-with-lizzie-hearne-and-betsy-ross-north-carolina-usa-4/
SUMMARY:TRE™ Online Global Certification Training Module 1 with Lizzie He
 arne and Betsy Ross – [North Carolina-USA]
DESCRIPTION:TRE Provider Certification Training Series              
                                                  
                   with Betsy Ross and Lizzie Hearne\nModule 1 cl
 asses have an in person or online option. Modules 2 and 3 in person option
 s willbe dependent on adequate number of participants.\n \n*Please note t
 here is a pre-session/Intro class prior to start of Module 1\nModule 1:  
 *August 21st                   6pm -8pm \n         
               August 26th &amp\;27th       10- 5pm (Option 1)
    \nOr\nModule 1:  *Septempber 18th                 
      6pm -8pm \n                      September 23rd &amp\
 ; 24th                        10am- 5pm (Option 2)\n
 Group Shake:  November 12th                     2pm 
 – 4pm \nModule 2:  December 1st – 3rd          10am - 6pm\nMo
 dule 3:  March 15th – 17th           10am – 6pm\n*Modules mu
 st be taken in order\nWhether you are joining us for Module 1 to learn TRE
 \, to deepen your current practice\, or plan to take the entire TRE certif
 ication program\, welcome!  We want you to build a strong foundation in y
 our own personal practice. Module 1 is all about YOU!\nBoth of us come fro
 m different backgrounds and education to bring our experiences into the TR
 E world.  We want to bring a well-rounded view and training program to ou
 r trainees. The number one aspect of learning in the TRE certification pro
 gram is your own personal process\, and from there developing the ability 
 to teach clients from a place of safety and presence.  Our focus is worki
 ng with diversified bodies and giving you the confidence to modify each ex
 ercise and the TRE process so everyBODY can do TRE.  We feel this is the 
 heart of TRE- it’s for everyone!  All are able to access their own trem
 or\, they just need the understanding and self-regulation to do so safely.
   The goal of our program is to develop strong\, confident\, and nurturin
 g providers.\nJoin us in discovering a deeper level of yourself\, creating
  a social awareness\, and developing the skills to help people dealing wit
 h trauma and stress in our chaotic world.\nTraining and Registration Infor
 mation\nClick HERE for Full Details\nContact us:  everybodyneedstre@gmai
 l.com
ATTACH;FMTTYPE=image/jpeg:https://treglobal.org/wp-content/uploads/2023/03
 /ENTRE-Logo-TFA-site-jpg-2.jpg
CATEGORIES:Online TRE® Certification Trainings
LOCATION:https://us02web.zoom.us/j/9480657686
END:VEVENT
BEGIN:VTIMEZONE
TZID:America/New_York
X-LIC-LOCATION:America/New_York
BEGIN:DAYLIGHT
DTSTART:20230312T030000
TZOFFSETFROM:-0500
TZOFFSETTO:-0400
TZNAME:EDT
END:DAYLIGHT
END:VTIMEZONE
END:VCALENDAR