BEGIN:VCALENDAR
VERSION:2.0
PRODID:-//wp-events-plugin.com//7.2.3.1//EN
TZID:America/Los_Angeles
X-WR-TIMEZONE:America/Los_Angeles
BEGIN:VEVENT
UID:5819@treglobal.org
DTSTART;TZID=America/New_York:20230827T100000
DTEND;TZID=America/New_York:20230827T170000
DTSTAMP:20230310T164029Z
URL:https://treglobal.org/event/tre-online-global-certification-training-m
 odule-1-with-lizzie-hearne-and-betsy-ross-north-carolina-usa-3/
SUMMARY:TRE™ Online Global Certification Training Module 1 with Lizzie He
 arne and Betsy Ross– [North Carolina\, USA]
DESCRIPTION:TRE Provider Certification Training Series              
                                                  
                      with Betsy Ross and Lizzie Hearne\nModule 
 1 classes have an in person or online option. Modules 2 and 3 in person op
 tions willbe dependent on adequate number of participants.\n \n*Please no
 te there is a pre-session/Intro class prior to start of Module 1\nModule 1
 :  *August 21st                   6pm -8pm \n      
                  August 26th &amp\;27th       10- 5pm (Optio
 n 1)   \nOr\nModule 1:  *Septempber 18th               
        6pm -8pm \n                      September 23rd &
 amp\; 24th                        10am- 5pm (Option 
 2)\nGroup Shake:  November 12th                     2p
 m – 4pm \nModule 2:  December 1st – 3rd          10am - 6pm\n
 Module 3:  March 15th – 17th           10am – 6pm\n*Modules 
 must be taken in order\n&nbsp\;\nWhether you are joining us for Module 1 t
 o learn TRE\, to deepen your current practice\, or plan to take the entire
  TRE certification program\, welcome!  We want you to build a strong foun
 dation in your own personal practice. Module 1 is all about YOU!\nBoth of 
 us come from different backgrounds and education to bring our experiences 
 into the TRE world.  We want to bring a well-rounded view and training pr
 ogram to our trainees. The number one aspect of learning in the TRE certif
 ication program is your own personal process\, and from there developing t
 he ability to teach clients from a place of safety and presence.  Our foc
 us is working with diversified bodies and giving you the confidence to mod
 ify each exercise and the TRE process so everyBODY can do TRE.  We feel t
 his is the heart of TRE- it’s for everyone!  All are able to access the
 ir own tremor\, they just need the understanding and self-regulation to do
  so safely.  The goal of our program is to develop strong\, confident\, a
 nd nurturing providers.\nJoin us in discovering a deeper level of yourself
 \, creating a social awareness\, and developing the skills to help people 
 dealing with trauma and stress in our chaotic world.\nTraining and Registr
 ation Information\nClick HERE for Full Details\nContact us:  everybodyne
 edstre@gmail.com
ATTACH;FMTTYPE=image/jpeg:https://treglobal.org/wp-content/uploads/2023/03
 /ENTRE-Logo-TFA-site-jpg.jpg
CATEGORIES:Online TRE® Certification Trainings
LOCATION:https://us02web.zoom.us/j/9480657686
END:VEVENT
BEGIN:VTIMEZONE
TZID:America/New_York
X-LIC-LOCATION:America/New_York
BEGIN:DAYLIGHT
DTSTART:20230312T030000
TZOFFSETFROM:-0500
TZOFFSETTO:-0400
TZNAME:EDT
END:DAYLIGHT
END:VTIMEZONE
END:VCALENDAR