BEGIN:VCALENDAR
VERSION:2.0
PRODID:-//wp-events-plugin.com//7.2.3.1//EN
TZID:America/Los_Angeles
X-WR-TIMEZONE:America/Los_Angeles
BEGIN:VEVENT
UID:6075@treglobal.org
DTSTART;TZID=America/Chicago:20240921T090000
DTEND;TZID=America/Chicago:20240922T160000
DTSTAMP:20240715T221254Z
URL:https://treglobal.org/event/tre-online-global-certification-training-m
 odule-1-usa-wisconsin/
SUMMARY:TRE™ Global Certification Training Mod 1 with Christine - IN PERS
 ON &amp\; ONLNE ????  (Wisconsin\, USA)
DESCRIPTION:Intro to TRE Workshop\n~a 2 Day workshop that cultivates laught
 er\, joy &amp\; play by bringing balance to your nervous system~\nSeptembe
 r 21 &amp\; 22 2024\nModule 1 - The Art and Science of TRE (for Personal P
 ractice)\nCourse Curriculum Includes: (but is not limited to) History of T
 RE™\, Stress Scale\, Polyvagal Theory\, Self-Regulation\, Neurology of T
 RE™\, The Anatomy of Trauma\, History of Tremors in the sciences\, ACE
 ’s study\, Post Traumatic Growth and more ????\nPLUS M1 Independent Stud
 y \n\n 	• •\n\n\nthe remainder of the certification info ???? ⬇ ?
 ???\nNovember 15\, 16\, 17 2024\nModule 2 – Teaching TRE™ to One Perso
 n\nCourse Curriculum Includes: (but is not limited to) Review of TRE™\, 
 How to Teach TRE™\, The Nuance of Holding Space\, Boundaries\, Containme
 nt &amp\; Self-Regulation/Co-regulation\, Attachment Theory\, Intervention
 s and more ????\nPLUS M2 Independent Study \n\n 	• •\n\nJanuary 24\, 
 25 &amp\; 26 2025\nModule 3 - Teaching TRE™ to Group (2 or more)\nCourse
  Curriculum Includes: (but is not limited to) Modifications of Template\, 
 Chair Review\, All exercises standing\, Fascia\, Group Dynamics\, Graduati
 on and more ????\nPLUS M3 Independent Study \n\n 	• •\n\nCourse Mater
 ials to be Purchased: (not included in training cost)\n\nBOOKS (available 
 on Amazon or traumaprevention.com)\nThe Revolutionary Trauma Release Proce
 ss by Dr. David Berceli\nShake it Off Naturally by Dr. David Berceli\nOthe
 r? Possible addition per trainers suggestions\n\nVIDEOS \nTRE Modification
 s:  Using the Chair\nTRE Interventions: Touch and Non-Touch\nTRE Modifica
 tions: All Exercises Standing\nTRE Modifications: Challenging Exercises\nO
 ther? Possible addition per trainers suggestions\n\n\n\n\n\nPREREQUISITE\n
 \nOne TRE session with me or another Certified Provider\, proof required\n
 \nTIME INVESTMENT (ESTIMATED)\n40 hours live &amp\; online (cohort depende
 nt) M1\, M2\, M3\n20 hours Supervision\n20 hoursIndependentstudypermodule\
 ,variesfrompersontoperson(somemayneedmore) 10 hours (check in\, accountabi
 lity\, supervision\, support)\n6 hours Supervision Clinics (3 sessions)\nA
 dditional time may be required for some\nAverage time to complete program 
 1 year\nProgram must be completed 2 years post Module 1 completion or trai
 ning is forfeited\n\nNOTE - PLEASE READ THIS Additional Supervision may b
 e required beyond the above mentioned 20 hours and is NOT included in the 
 Financial Investmentof $3700\n\nINTERNATIONAL STUDENTS\ncost is based on U
 S$ and conversion for international exchange calculated at registration\n\
 nFINANCIAL INVESTMENT\n$3\,700 USD\nPLUS\n$150 (average) Independent Study
  Materials (books\, videos\, not included in tuition) $110 TFA site\, List
 ing as a Provider (not included in tuition)\nCost can vary based on additi
 onal training needs of student\nFinancial Assistance Available\nFull Cost 
 Breakdown provided upon request\n\nPAYMENT METHODS\nall major credit cards
 \n\nLEARN MORE\nchristinevarnavas.com\n\nREGISTER\nhttps://christine-varna
 vas.square.site\n\n&nbsp\;\n\n\n\n\n
CATEGORIES:Certification Trainings,Intro Workshops / Recurring Classes /
 Online Events,Online TRE® Certification Trainings
LOCATION:The Zanyia Center\, 16850 CTY HWY X\, CHIPPEWA FALLS\, WI USA\, 54
 729\, United States
X-APPLE-STRUCTURED-LOCATION;VALUE=URI;X-ADDRESS=16850 CTY HWY X\, CHIPPEWA 
 FALLS\, WI USA\, 54729\, United States;X-APPLE-RADIUS=100;X-TITLE=The Zany
 ia Center:geo:0,0
END:VEVENT
BEGIN:VTIMEZONE
TZID:America/Chicago
X-LIC-LOCATION:America/Chicago
BEGIN:DAYLIGHT
DTSTART:20240310T030000
TZOFFSETFROM:-0600
TZOFFSETTO:-0500
TZNAME:CDT
END:DAYLIGHT
END:VTIMEZONE
END:VCALENDAR