BEGIN:VCALENDAR
VERSION:2.0
PRODID:-//wp-events-plugin.com//7.2.3.1//EN
TZID:America/Los_Angeles
X-WR-TIMEZONE:America/Los_Angeles
BEGIN:VEVENT
UID:6088@treglobal.org
DTSTART;TZID=America/Los_Angeles:20260627T090000
DTEND;TZID=America/Los_Angeles:20260628T163000
DTSTAMP:20260322T222948Z
URL:https://treglobal.org/event/tre-online-global-certification-training-m
 odule-1-usa-12/
SUMMARY:Online TRE™ Global Certification Training Module 1 – USA
DESCRIPTION:After facilitating over 100 in-person Certification Trainings\,
  since 2020 I am teaching my TRE Certification Program online.\n\nPlease j
 oin me!\n\nNote: Module 1 is open to the public and it can be taken as a p
 ersonal exploration by anyone who is interested in a deeper immersion in t
 he tremor mechanism.\n\nM2 and M3 are only open to trainees who attended M
 odule 1 and who are enrolled in the TRE Global Certification Program. Enro
 llment in the program takes place after M1.\n\nModule 1 – Foundations of
  TRE™ and Establishing Your Personal Practice\nJune 17 &amp\; 18\, 2026 
  – 9:00am – 4:30pm PT (1hr lunch break)\nThe first module introduces t
 he anatomy\, neurology\, physiology and psychology of stress and trauma as
  it relates to TRE and the tremoring process. Participants learn about the
  latest research on the nervous system and also containment\, grounding an
 d self-regulating strategies. This is an experiential training with a stro
 ng focus on the trainee's personal tremoring experience.\n\nModule 2 – L
 earning to work with Individuals\nOctober 17 &amp\; 18\, 2026 – 9:00 am 
 – 5:00pm PT (1hr lunch break)\nModule 2 is only open to people who are e
 nrolled in the TRE certification program to become TRE providers.\n\nIn th
 e second module participants deepen their knowledge and experience of TRE 
 and their facilitation skills\, they learn about modifications\, Transfere
 nce and Countertransference and about the role of fascia in the TRE proces
 s. They also begin to facilitate the TRE process for each other under supe
 rvision. This is an experiential training with a strong focus on how to sh
 are TRE with an individual client .\n\nModule 3 – Learning to work with 
 Groups\nMarch 6 &amp\; 7\, 2026 – 9:00am – 5:00pm PDT(1hr lunch break)
 \nIn the third module trainees broaden their understanding of the nervous 
 system in relationship to TRE\, they practice self and no-touch interventi
 on and they learn about individual and group dynamics. They also begin to 
 facilitate TRE for each other in small groups under supervision. This is a
 n experiential training with a strong focus on how to share TRE in a group
  setting.\n\nMassage therapists and body workers who complete the program 
 receive 30 CEUs nationally.\n\nLMFTs\, LPCCs and/or LEPs in California  re
 ceive 55 CEUs as required by the Board of Behavioral Sciences.\n\nCost:\nM
 odule 1 + 4 Personal sessions\n\n$1000\n\nModule 2 + 5 Individual Supervis
 ion Sessions (you teaching one person)\n\n$1200\n\nModule 3 + 4 Group Supe
 rvision Sessions (you teaching a small group)\n\n$1200\n\nCertification To
 tal Cost:\n\n$3400\n\nModule 1 only (for personal exploration)\n\n$450\n\n
 PAYMENT PLANS AVAILABLE UPON REQUEST.\n\nCancelation policy and special re
 quests\nFull refund minus $100 administration fee 14 days or more before M
 odule start date. No refund 14 days or less of the Modules start date. You
 r account balance can be applied to another TRE workshop or training with 
 Maria Alfaro within one year of the Module 1 training. After that date\, n
 o refund will be issued. Refund will be established from any unused module
 s or supervision sessions minus administrative charge will be issued. Cred
 it Card or PayPal fees will also be deducted from any refund.\n\nIf you re
 quire special accommodations please allow as much advance notice as possib
 le to ensure that we can meet your needs.\n\nQuestions: maria@TREcaliforni
 a.com\n\nAbout your Trainer\nTRE™ California offers private sessions\, p
 ublic and corporate workshops\, and certification trainings—both in pers
 on and via Zoom—led by Maria Alfaro.\n\nA native of Italy and a U.S. cit
 izen since 1997\, Maria has been facilitating TRE™ since 2004. She has w
 orked with thousands of people across the U.S.\, Canada\, Europe\, Asia\, 
 and the Middle East\, and has assisted TRE™ founder Dr. David Berceli in
  numerous trainings worldwide\, including co-teaching with him in Japan. T
 o date\, Maria has led hundreds of public workshops and over 150 certifica
 tion trainings globally.\n\nAt the onset of the COVID-19 pandemic\, she wa
 s part of in an international pilot project to transition the TRE™ Certi
 fication Program online and has facilitated online trainings and workshops
  ever since.\n\nMaria is fluent in English and Italian\, and can also supe
 rvise training sessions in French\, Spanish\, and Portuguese.\n\nHer eclec
 tic background includes massage\, dance\, Chinese martial arts\, internati
 onal business\, acting and improv comedy\, and decades of teaching yoga. S
 he is also the co-creator of Neurogenic Yoga™\, the sister method of TRE
 .\n\nMaria’s trainings offer CEUs for massage therapists and bodyworkers
  nationwide\, and for LMFTs in California.\n\nShe is widely recognized for
  creating a supportive\, compassionate\, and engaging learning environment
  that is fun and feels safe.
ATTACH;FMTTYPE=image/jpeg:https://treglobal.org/wp-content/uploads/2024/07
 /Maria-400x400-1.jpg
CATEGORIES:Certification Trainings
LOCATION:https://docs.google.com/forms/d/1oTQDXbxSLv0wDLRlvpYgH3lYMd7LauhPB
 UlJyvYlghg/edit
END:VEVENT
BEGIN:VTIMEZONE
TZID:America/Los_Angeles
X-LIC-LOCATION:America/Los_Angeles
BEGIN:DAYLIGHT
DTSTART:20260308T030000
TZOFFSETFROM:-0800
TZOFFSETTO:-0700
TZNAME:PDT
END:DAYLIGHT
END:VTIMEZONE
END:VCALENDAR