BEGIN:VCALENDAR
VERSION:2.0
PRODID:-//wp-events-plugin.com//7.2.3.1//EN
TZID:America/Los_Angeles
X-WR-TIMEZONE:America/Los_Angeles
BEGIN:VEVENT
UID:5849@treglobal.org
DTSTART;TZID=Europe/London:20240217T100000
DTEND;TZID=Europe/London:20240218T180000
DTSTAMP:20231012T103950Z
URL:https://treglobal.org/event/tre-online-global-certification-training-m
 odule-1-uk-4/
SUMMARY:TRE™ Online Global Certification Training Module 1 – [UK]
DESCRIPTION:TRE Module 1 is open to all - if you would like to train as a T
 RE Provider or simply to learn or deepen your knowledge of the TRE Process
  and core principles founded by Dr David Berceli for personal practice.\nT
 he two day weekend online training is about you meeting you. Safely engagi
 ng with the body's innate 'tremor mechanism' to release tension patterns a
 nd dynamically enhance connection and fluidity in the body. TRE helps to r
 educe stress and anxiety by rebooting the nervous system and improving our
  sense of wellbeing and connection to the body and others.\n\n\n 	As well 
 as learning to 'shake'\, you will also learn:\n 	An understanding of TRE a
 nd ‘The Tremor Mechanism’\n 	The concept of grounding in TRE\n 	Self-r
 egulation and the importance of going slow\n 	The neurophysiology of stres
 s and trauma and how shaking reboots the nervous system\n 	Avoiding Freezi
 ng\, Flooding and Dissociation\n\nTimings:\n10am - 6.00pm both days\nThere
  will be plenty of breaks for rest and lunch.\nYou Certification Trainer i
 s Deborah Brown.\nTrain TRE Certification Trainings are small groups with 
 learning facilitated through sharing\, experiential exercises\, and discus
 sion\, to support the key concepts of TRE and neuroscience theory\, and ar
 e supported by an experienced relational team.\nTwo additional modules and
  a supervision process are required to teach TRE to others as a TRE Provid
 er\, the time frame for which is 10-18 months. Supervision is a combinatio
 n of one to one with a TRE Mentor and in small groups.\nYou can read more 
 about the Training and Content here.\nYou can also mix and match with in p
 erson Modules in Brighton\, UK\, if you are unable to make online dates.\n
 Please click here for full details.\nIf you are looking to become a TRE P
 rovider\, book all three modules together to receive a £40 discount.
ATTACH;FMTTYPE=image/jpeg:https://treglobal.org/wp-content/uploads/2023/05
 /Bio-700.jpg
CATEGORIES:Online TRE® Certification Trainings
LOCATION:https://www.deborah-brown.co.uk/train-in-tre
END:VEVENT
BEGIN:VTIMEZONE
TZID:Europe/London
X-LIC-LOCATION:Europe/London
BEGIN:STANDARD
DTSTART:20231029T010000
TZOFFSETFROM:+0100
TZOFFSETTO:+0000
TZNAME:GMT
END:STANDARD
END:VTIMEZONE
END:VCALENDAR