BEGIN:VCALENDAR
VERSION:2.0
PRODID:-//wp-events-plugin.com//7.2.3.1//EN
TZID:America/Los_Angeles
X-WR-TIMEZONE:America/Los_Angeles
BEGIN:VEVENT
UID:6119@treglobal.org
DTSTART;TZID=Africa/Johannesburg;VALUE=DATE:20251126
DTEND;TZID=Africa/Johannesburg;VALUE=DATE:20251129
DTSTAMP:20251023T032908Z
URL:https://treglobal.org/event/tre-online-global-certification-training-m
 odule-1-south-africa-israel-10/
SUMMARY:TRE™ Online Global Certification Training Module 1 – South Afri
 ca/Israel
DESCRIPTION:\n\nONLINE MODULE ONE is open for Provider trainees and can als
 o be taken as a stand-alone workshop for personal TRE™. \nYou are traini
 ng with TWO Certification Trainers - Anya Bloom/Israel and Su Thomas/South
  Africa in an international trainee group.\n\n\n\n\n\nMODULE ONE (Course 
 Start) \n26 - 28 November 2025\nAll our Modules begin on a Wednesday even
 ing\, continue on Thursday morning and afternoon and end on Friday morning
 . Time displayed here is GMT+2 or SAST \nWed 17:00 – 20:00 Thursday 9:00
  – 12:00 and 14:00 – 17:00  Friday 9:00 – 12:00 \n\n\nFor detailed
  information and fees\, please download our brochure from the TRE Internat
 ional Training Website\nhttps://treinternationaltraining.com\nRegistration
  Form for 2025/26 Module One Workshops  \nhttps://forms.gle/zUX7F4YPiqTM
 hHAV9\n\n
ATTACH;FMTTYPE=image/jpeg:https://treglobal.org/wp-content/uploads/2024/11
 /Cream-Round-Icon-500Logo.jpg
CATEGORIES:Certification Trainings
LOCATION:https://www.treinternationaltraining.com/
END:VEVENT
BEGIN:VTIMEZONE
TZID:Africa/Johannesburg
X-LIC-LOCATION:Africa/Johannesburg
BEGIN:STANDARD
DTSTART:20241126T000000
TZOFFSETFROM:+0200
TZOFFSETTO:+0200
TZNAME:SAST
END:STANDARD
END:VTIMEZONE
END:VCALENDAR