BEGIN:VCALENDAR
VERSION:2.0
PRODID:-//wp-events-plugin.com//7.2.3.1//EN
TZID:America/Los_Angeles
X-WR-TIMEZONE:America/Los_Angeles
BEGIN:VEVENT
UID:5431@treglobal.org
DTSTART;TZID=America/New_York:20210919T100000
DTEND;TZID=America/New_York:20210926T160000
DTSTAMP:20210807T231352Z
URL:https://treglobal.org/event/tre-online-global-certification-training-m
 odule-1-north-carolina-usa/
SUMMARY:TRE™ Online Global Certification Training - Module 1 (North Carol
 ina\, USA)
DESCRIPTION:In our stressful world... Everyone Needs TRE!\nWe are looking f
 orward to working with you on your TRE® journey. Whether you are here for
  a deeper personal practice or interested in certification training\, we w
 ant to offer you a chance to learn not only about TRE® but about yourself
 . We will share our own experiences of growth\, while teaching you the kno
 wledge and tools to become confident in your own practice and develop your
  skills as a TRE® provider. From our own education and backgrounds\, our 
 focus is teaching that TRE® is for all\; no matter the life experiences\,
  physical condition or age.\nClass details/Meet your instructors\nModule 1
 :  10am - 4pm (EDT)\n\n 	Sunday\, September 19th  (online)\n 	Sunday\, S
 eptember 26th  (online)\n\n*See our October training for alternate module
  1 dates.\nJoin us for a deeper understanding of TRE® and how it can help
  manage your own tension and stress levels. Whether you are brand new to T
 RE® or already have an established practice\, this class is for you!\n\nW
 ant to teach others? This is your first step to becoming a certified TRE®
  provider.\nModule 2:  10am -5pm (EST)\n\n 	Sunday\, November 14th     
     (online)\n 	Saturday\, November 20th     (live and/or online)\n 	S
 unday\, November 21st         (live and/or online)\n\n*Live class will
  be held in Waxhaw\, NC near Charlotte.\nStarting in this module\, your fo
 cus will change from your own personal practice to teaching others. Throu
 gh lectures and experiential sessions\, you will learn to safely guide one
  person through the TRE® process\, individualizing the experience for eac
 h client.\nModule 3:    10am - 5pm (EST)\n\n 	Sunday\, January 23rd   
           (online)\n 	Saturday\, January 29th          (live and
 /or online)\n 	Sunday\, January 30th             (live and/or online
 )\n\n*Live class will be held in Waxhaw\, NC near Charlotte.\nIn this fina
 l module you will learn how to teach and manage a TRE® group.  As you wi
 ll continue to learn through experiential sessions\, this final chapter he
 lps you pull all the pieces together. After all the requirements are met\,
  you will be able of teach the beauty of TRE® to those in your world.\n\n
 **You must complete the entire certification program before leading anyone
  through the TRE process.\nClick Here to Register\n&nbsp\;\n\n&nbsp\;
ATTACH;FMTTYPE=image/jpeg:https://treglobal.org/wp-content/uploads/2021/07
 /848ffd07-ed16-40a1-80e4-fb3f1382d864.jpg
CATEGORIES:Online TRE® Certification Trainings
LOCATION:http://events.constantcontact.com/register/event?llr=dsda6yyab&oei
 dk=a07ei7jo11k7aa63c95
END:VEVENT
BEGIN:VTIMEZONE
TZID:America/New_York
X-LIC-LOCATION:America/New_York
BEGIN:DAYLIGHT
DTSTART:20210314T030000
TZOFFSETFROM:-0500
TZOFFSETTO:-0400
TZNAME:EDT
END:DAYLIGHT
END:VTIMEZONE
END:VCALENDAR