BEGIN:VCALENDAR
VERSION:2.0
PRODID:-//wp-events-plugin.com//7.2.3.1//EN
TZID:America/Los_Angeles
X-WR-TIMEZONE:America/Los_Angeles
BEGIN:VEVENT
UID:6097@treglobal.org
DTSTART;TZID=Europe/Oslo:20241127T140000
DTEND;TZID=Europe/Oslo:20241129T180000
DTSTAMP:20241125T195759Z
URL:https://treglobal.org/event/tre-online-global-certification-training-m
 odule-1-in-english/
SUMMARY:TRE™ Online Global Certification Training Module 1 – [EUROPE] i
 n English
DESCRIPTION:&nbsp\;\n\n\nOnline TRE™ Global Certification Program\n&nbsp\
 ;\n\nLanguage: This training will be held in English.\n\n&nbsp\;\n\nDates:
 \n\nModule 1: Wednesday to Friday 27th to 29th November 2024\n\nModule 2: 
 Wednesday to Friday 12th to 13th of March 2025\n\nModule 3: Wednesday to F
 riday 18th to 20th of June 2025\n\n&nbsp\;\n\nTime:\n\nEach module will be
  from:\n\nCentral European Time (Paris): 2 pm to 6 pm CEST/CET\n\nFind you
 r local time here. http://www.timeanddate.com/worldclock/meeting.html\n\nW
 e meet online (Zoom video conferencing) for four hours per day.\n\n&nbsp\;
 \n\n&nbsp\;\n\nPlease read more about this training on our webpage\,\n\nht
 tps://oppmerksombevegelse.no/tre-online-certification-training/\n\nOrganiz
 ation and content of the training.\n\nThis online certification training t
 eaches you how to use TRE as a personal practice\, guide individual client
 s and groups in TRE.\n\nThe training is delivered in three modules. Each m
 odule consists of three training days\, including theory\, practice\, shar
 ing\, and reflection on the experience of TRE.\n\nIn module 1\, the emphas
 is is on using TRE for self-work and self-study in working with your own b
 ody in relation to trauma\, deep-seated stress\, physical and emotional te
 nsions.\n\n&nbsp\;\n\n\n\nIn Module 1 you will learn:\n\nTRE™ as a perso
 nal practice and gain experience with how it works over time.\n\n 	Basic g
 rounding and containment techniques\n 	Variations on the basic TRE exercis
 es and positions\n 	Observe your body and adapting to your patterns of tre
 moring and capacity for self-regulation\n 	Self-determination\, agency\, a
 nd self-regulation\n 	Self-adaptation and personalization of exercises and
  positions to follow your body\n 	Basic understanding of the brain and the
  nervous system in stress and trauma\n 	The polyvagal theory and the vagus
  nerve\n 	Social engagement\, Flight and Fight\n 	Memory systems in trauma
  and therapy\n 	Basics of Freezing\, Flooding\, and Dissociation\n\nIn mod
 ules 2 and 3 you will experience a deepening of your personal TRE practice
 \, theory as well as learn how to teach TRE to individuals and groups.\n\n
 &nbsp\;\n\nCosts &amp\; Registration Details:\n\nModule 1: US$ 390\n\nModu
 le 2: 2020: US$ 390\n\nModule 3: US$ 390\n\nModules 1\, 2\, 3 (pre-paid wi
 th 10% discount): US$ 1053.\n\nIn addition\, there are 12 individual sessi
 ons at 125$ each.\n\n&nbsp\;\n\nPlease note:\n\nSessions will be held onli
 ne using Zoom (details sent out with registration)\n\nRegistration is conf
 irmed upon receipt of payment and payments are non-refundable.\n\n&nbsp\;\
 n\nFor professionals as well as the public.\n\nThis training is geared tow
 ards those who want to certify as TRE™ instructors. Still\, the training
 \, and especially module 1 attracts those who want to deepen their persona
 l TRE™ process and therefore participate in the TRE™ training program 
 without wanting to work toward certification. This option may suit you if 
 you want to learn more about TRE™ for your own personal practice and gai
 n a better understanding of trauma and the effects of stress and trauma on
  the body and the nervous system.\n\nBasic skills and requirements for par
 ticipation.\n\nYou need to have previous experience with TRE™ and feel s
 omewhat confident in the basics of self-regulation skills and methods. We 
 will teach these skills in the training and provide online support through
 out the training but as this is an online training where we are not in the
  same location it is important that you have these basic self-help skills 
 for use at home. Also\, if you are in immediate need of stabilization and 
 therapy we invite you to contact us for individual online sessions.\n\nPle
 ase read more about this training on our webpage\,\n\nhttps://oppmerksombe
 vegelse.no/tre-online-certification-training/\n\n&nbsp\;\n\nTRE™ Facilit
 ators\n\n\n\nHans Holter Solhjell\n\nHans will be leading this online cert
 ification training.\n\nAbout Hans: I came to TRE™ ten years ago after 15
  years of bodywork experience\, integrating various methods\, including em
 otional release work. I found in TRE™\, in addition\, to the personal be
 nefits\, a very effective way of teaching individuals and groups how to re
 -connect with their own capacity for self-healing and stress regulation us
 ing the body’s own innate self-regulation mechanisms through tremoring a
 nd autonomous movement.\n\nI have a master's degree in pedagogy from the U
 niversity of Oslo. In addition\, I am certified in the Feldenkrais method\
 , Communicology\, and Somatic Experiencing\, in addition to being a TRE™
  Certification Trainer.\n\nOn a daily basis\, I work as a trainer\, superv
 isor\, course leader/organizer. I also work with parents\, kindergartens\,
  and schools with a focus on relationships with children\, communication\,
  conflict resolution\, trauma\, and regulation support.\n\nAnother part of
  my practice is working with adults and body-oriented pedagogy/self-develo
 pment and trauma therapy.\n\nI also have developed several models for teac
 hing conflict resolution and trauma-related topics\, like the PLS Regulati
 on Support Model\, the Response Runnel\, and the Perspective Spiral.\n\nYo
 u can read more about me here.\n\n&nbsp\;\n\n\nRaquel Devillé\n\nRaquel D
 evillé will be assisting Hans for the online TRE training program.\n\nAbo
 ut Raquel:\n\n\nI am a TRE™ provider\, a yoga teacher\, and therapist on
  a mission to help people stop bringing workplace stress and pain home.\n\
 nWith a background in Ergonomics and Occupational Health\, in the last 12 
 years\, I’ve helped hard-working\, career-oriented persons alleviate the
 ir pain and stress by getting out of autopilot mode and back into their bo
 dies to enjoy life\, both mentally and physically fully.\n\nI am passionat
 e about using TRE to offer people effective and long-lasting pain relief.\
 n\n&nbsp\;\n\n\nPlease read more about this training on our webpage\,\n\nh
 ttps://oppmerksombevegelse.no/tre-online-certification-training/\n\n&nbsp\
 ;\n\nDo you have questions about the training program?\n\nYou can contact 
 Hans by email here.
CATEGORIES:Intro Workshops / Recurring Classes / Online Events,Online
 TRE® Certification Trainings
LOCATION:https://oppmerksombevegelse.no/tre-online-certification-training/
END:VEVENT
BEGIN:VTIMEZONE
TZID:Europe/Oslo
X-LIC-LOCATION:Europe/Oslo
BEGIN:STANDARD
DTSTART:20241027T020000
TZOFFSETFROM:+0200
TZOFFSETTO:+0100
TZNAME:CET
END:STANDARD
END:VTIMEZONE
END:VCALENDAR