BEGIN:VCALENDAR
VERSION:2.0
PRODID:-//wp-events-plugin.com//7.2.3.1//EN
TZID:America/Los_Angeles
X-WR-TIMEZONE:America/Los_Angeles
BEGIN:VEVENT
UID:5973@treglobal.org
DTSTART;TZID=Europe/Stockholm:20240425T093000
DTEND;TZID=Europe/Stockholm:20240427T153000
DTSTAMP:20240408T104044Z
URL:https://treglobal.org/event/tre-online-global-certification-training-m
 odule-1-europe-in-english/
SUMMARY:TRE™ Online Global Certification Training Module 1 – [EUROPE] i
 n English
DESCRIPTION:We are excited to be offering this Live Online TRE™ Module 1 
 training at TRE™ Online.com\nDate: April 25th - 27th\nTime: 9.30 am - 5.
 30 pm CEST/GMT+2\nWhere: Online - Zoom \nCost : € 270/ € 330\n\nLimite
 d to 8 participants online only!\n\nThis Online Module 1 training can be t
 he first step towards certification towards becoming a TRE™ Provider (ou
 tline of certification will be provided). You can also attend for personal
  process only.\n\nPRE-Requisite \nIt is recommended that participants hav
 e learnt TRE™ from a certified Provider/Trainer prior to attending the o
 nline training. If you haven't yet learnt TRE™ we would highly recommend
  you to book a personal session as soon as possible.\n\nWelcome to this 2-
 day Online  Module 1  training divided into 3 shorter days\n\nSecure you
 r spot here\n\nThe training will be taught by DevaLaya Guleng\, an interna
 tional TRE™ Certification Trainer\, with assistants.\n\nGoal\nTo deepen 
 your personal process and to help you experiencing the tremors. Each morni
 ng and afternoon session you will be supported through the exercises and t
 remors. We will explore the theory behind the model.\n\nModule 1 will incl
 ude:\n\n 	Introduction to TRE™\n 	Introduction and deepening of persona
 l tremoring experience\n 	Anatomy\, neurology and physiology of stress and
  trauma as it relates to TRE™\n 	Understanding the tremor response\n 	In
 troduction to the Polyvagal theory\n 	Defence reactions as they relate to 
 TRE™\n 	Containment and grounding strategies\n\nThe way we work\nThere w
 ill be plenty of time for discussion and sharing of your experiences. We w
 ill also guide you in developing your skills so you can begin to support o
 ther people through the exercises.\n\nDates and times:\nModule I\n(Open to
  anyone)\nThursday\, April 25th\, 9.30 am - 3.30 pm CEST (Stockholm/Madrid
 ) (incl. 1 hour break in the middle of the day)\nFriday\, April 65th\, 9.3
 0 am - 3.30 pm CEST (Stockholm/Madrid) (incl. 1 hour break in the middle o
 f the day)\nSaturday\, April 27th\, 9.30 am - 3.30 pm CEST (Stockholm/Madr
 id) (incl. 1 hour break in the middle of the day)\n\nModule II  &amp\; Mo
 dule III\n(you’ll need to be able to attend these dates if you wish to p
 roceed towards being a certified TRE™ Provider – if you for some reaso
 n have no possibility to attend these dates and wish to proceed with certi
 fication\, please contact us) \n\nMODULE II (Preliminary dates)\n(3 short
 er days Thursday - Saturday)\nprel. dates AUG 29th - 31st\n\nMODULE III (P
 reliminary dates)\n(3 shorter days Thursday - Saturday)\nprel. dates Mid j
 an 2025\n\n\nModule I prices:\n€ 270 early bird until March 3rd 2024\n
 € 330 from March 4th 2024\n\nTo continue with certification towards a TR
 E™ Provider\, you will need to attend the Module II &amp\; II connected 
 to the Module I you sign up for.  Additional costs will apply for require
 d supervision sessions and literature/media.  The certification process i
 s normally completed within 12-18 months from start of Module I.  For com
 plete certification requirements\, please read more here.\n\n\n\nInternati
 onal TRE™ Certification Trainer
CATEGORIES:Intro Workshops / Recurring Classes / Online Events,Online
 TRE® Certification Trainings
LOCATION:https://tre-online.com/events-2/
END:VEVENT
BEGIN:VTIMEZONE
TZID:Europe/Stockholm
X-LIC-LOCATION:Europe/Stockholm
BEGIN:DAYLIGHT
DTSTART:20240331T030000
TZOFFSETFROM:+0100
TZOFFSETTO:+0200
TZNAME:CEST
END:DAYLIGHT
END:VTIMEZONE
END:VCALENDAR