BEGIN:VCALENDAR
VERSION:2.0
PRODID:-//wp-events-plugin.com//7.2.3.1//EN
TZID:America/Los_Angeles
X-WR-TIMEZONE:America/Los_Angeles
BEGIN:VEVENT
UID:6071@treglobal.org
DTSTART;TZID=Europe/Stockholm:20241018T093000
DTEND;TZID=Europe/Stockholm:20241020T153000
DTSTAMP:20240826T125813Z
URL:https://treglobal.org/event/tre-online-global-certification-training-m
 odule-1-europe-in-english-4/
SUMMARY:TRE™ Online Global Certification Training Module 1 – [EUROPE] i
 n English
DESCRIPTION:We are excited to be offering this Live Online TRE™ Module 1 
 training at TRE™ Online.com\nDate: Oct 18th – 20th\nMandatory pre-modu
 le meet-up Oct 15th 4 pm - 5 pm (Paris/Madrid)\nTime: 9.30 am - 3.30 pm CE
 ST/GMT+2 (Stockholm/Paris/Madrid)\nWhere: Online - Zoom \nCost : € 270/ 
 € 330\nEarly Bird €270 until Sept 8th\n\nLimited to 8 participants onl
 ine only!\n\nThis Online Module 1 training can be the first step towards c
 ertification towards becoming a TRE™ Provider (outline of certification 
 will be provided). You can also attend for personal process only. The trai
 ning is provided in English.\n\nPRE-Requisite \nIt is recommended that pa
 rticipants have learnt TRE™ from a certified Provider/Trainer prior to a
 ttending the online training. If you haven't yet learnt TRE™ we would hi
 ghly recommend you to book a personal session as soon as possible.\n\nWelc
 ome to this 2-day Online  Module 1  training divided into 3 shorter days
 \n\nSecure your spot here\n\nThe training will be taught by DevaLaya Gulen
 g\, an international TRE™ Certification Trainer\, with assistants.\n\nGo
 al\nTo deepen your personal process and to help you experiencing the tremo
 rs. Each morning and afternoon session you will be supported through the e
 xercises and tremors. We will explore the theory behind the model.\n\nModu
 le 1 will include:\n\n 	Introduction to TRE™\n 	Introduction and deepeni
 ng of personal tremoring experience\n 	Anatomy\, neurology and physiology
  of stress and trauma as it relates to TRE™\n 	Understanding the tremor 
 response\n 	Introduction to the Polyvagal theory\n 	Defence reactions as t
 hey relate to TRE™\n 	Containment and grounding strategies\n\nThe way we
  work\nThere will be plenty of time for discussion and sharing of your exp
 eriences. We will also guide you in developing your skills so you can begi
 n to support other people through the exercises.\n\nDates and times:\nModu
 le I\n(Open to anyone)\nPre-module meetup (Mandatory) Oct 22nd\, 4.00 - 5.
 00 pm CEST\nFriday\, Oct 18th\, 9.30 am – 3.30 pm CEST (Stockholm/Madrid
 ) (incl. 1 hour break in the middle of the day)\nSaturday\, Oct 19th\, 9.3
 0 am – 3.30 pm CEST (Stockholm/Madrid) (incl. 1 hour break in the middle
  of the day)\nSunday\, Oct 20th\, 9.30 am – 3.30 pm CEST (Stockholm/Madr
 id) (incl. 1 hour break in the middle of the day)\n\nModule 2  &amp\; Mod
 ule 3\n(you’ll need to be able to attend these dates if you wish to proc
 eed towards being a certified TRE™ Provider – if you for some reason h
 ave no possibility to attend these dates and wish to proceed with certific
 ation\, please contact us) \n\nMODULE 2 (Preliminary dates)\n(3 shorter d
 ays Thursday - Saturday)\nprel. dates Thurs-Sat  Feb 20th - 22nd 2025\n\n
 MODULE 3 (Preliminary dates)\n(3 shorter days Thursday - Saturday)\nprel. 
 dates Thurs-Sat July 10th - 12th 2025\n\n\nModule I prices:\n€ 270 early
  bird until SEPT 8th 2024\n€ 330 from SEPT 9th 2024\n\nTo continue with 
 certification towards a TRE™ Provider\, you will need to attend the Modu
 le 2 &amp\; 3 connected to the Module 1 you sign up for.  Additional cost
 s will apply for required supervision sessions and literature/media.  The
  certification process is normally completed within 12-18 months from star
 t of Module I.  For complete certification requirements\, please read mor
 e here.\n\n&nbsp\;
CATEGORIES:Online TRE® Certification Trainings
LOCATION:https://tre-online.com/events-2/
END:VEVENT
BEGIN:VTIMEZONE
TZID:Europe/Stockholm
X-LIC-LOCATION:Europe/Stockholm
BEGIN:DAYLIGHT
DTSTART:20240331T030000
TZOFFSETFROM:+0100
TZOFFSETTO:+0200
TZNAME:CEST
END:DAYLIGHT
END:VTIMEZONE
END:VCALENDAR