BEGIN:VCALENDAR
VERSION:2.0
PRODID:-//wp-events-plugin.com//7.2.3.1//EN
TZID:America/Los_Angeles
X-WR-TIMEZONE:America/Los_Angeles
BEGIN:VEVENT
UID:6093@treglobal.org
DTSTART;TZID=Europe/Stockholm:20250228T093000
DTEND;TZID=Europe/Stockholm:20250302T153000
DTSTAMP:20241202T134743Z
URL:https://treglobal.org/event/tre-online-global-certification-training-m
 odule-1-europe-in-english-3/
SUMMARY:TRE™ Online Global Certification Training Module 1 – [EUROPE] i
 n English
DESCRIPTION:We are excited to be offering this Live Online TRE™ Module 1 
 training at TRE™ Online.com\nDate: Feb 28th –  March 2nd\nMandatory p
 re-module meet-up Feb 25th 4 pm - 5 pm (Paris/Madrid)\nTime: 9.30 am - 3.3
 0 pm CET (Stockholm/Paris/Madrid)\nWhere: Online - Zoom \nCost : € 250/ 
 € 330\nEarly Bird €250 until Jan 15th\n\nLimited to 8 participants onl
 ine only!\n\nThis Online Module 1 training can be the first step towards c
 ertification towards becoming a TRE™ Provider (outline of certification 
 will be provided). You can also attend for personal process only. The trai
 ning is provided in English.\n\nPRE-Requisite \nIt is recommended that pa
 rticipants have learnt TRE™ from a certified Provider/Trainer prior to a
 ttending the online training. If you haven't yet learnt TRE™ we would hi
 ghly recommend you to book a personal session as soon as possible.\n\nWelc
 ome to this 2-day Online  Module 1  training divided into 3 shorter days
 \n\nSecure your spot here\n\nThe training will be taught by DevaLaya Gulen
 g\, an international TRE™ Certification Trainer\, with assistants.\n\nGo
 al\nTo deepen your personal process and to help you experiencing the tremo
 rs. Each morning and afternoon session you will be supported through the e
 xercises and tremors. We will explore the theory behind the model.\n\nModu
 le 1 will include:\n\n 	Introduction to TRE™\n 	Introduction and deepeni
 ng of personal tremoring experience\n 	Anatomy\, neurology and physiology
  of stress and trauma as it relates to TRE™\n 	Understanding the tremor 
 response\n 	Introduction to the Polyvagal theory\n 	Defence reactions as t
 hey relate to TRE™\n 	Containment and grounding strategies\n\nThe way we
  work\nThere will be plenty of time for discussion and sharing of your exp
 eriences. We will also guide you in developing your skills so you can begi
 n to support other people through the exercises.\n\nDates and times:\nModu
 le I\n(Open to anyone)\nPre-module meetup (Mandatory) Feb 25th \, 4.00 - 5
 .00 pm CET\nFriday\, Feb 28th\, 9.30 am – 3.30 pm CET (Stockholm/Madrid)
  (incl. 1 hour break in the middle of the day)\nSaturday\, March 1st\, 9.3
 0 am – 3.30 pm CET (Stockholm/Madrid) (incl. 1 hour break in the middle 
 of the day)\nSunday\, March 2nd\, 9.30 am – 3.30 pm CET (Stockholm/Madri
 d) (incl. 1 hour break in the middle of the day)\n\nModule 2  &amp\; Modu
 le 3\n(you’ll need to be able to attend these dates if you wish to proce
 ed towards being a certified TRE™ Provider – if you for some reason ha
 ve no possibility to attend these dates and wish to proceed with certifica
 tion\, please contact us) \n\nMODULE 2 (Preliminary dates)\n(3 shorter da
 ys Thursday - Saturday)\nprel. dates Thurs-Sat  June 12th - 14th 2025\n\n
 MODULE 3 (Preliminary dates)\n(3 shorter days Thursday - Saturday)\nprel. 
 dates Thurs - Sat Nov 13th - 15th 2025\n\n\nModule I prices:\n€ 250 earl
 y bird until Jan 15th 2025\n€ 330 from Jan 16th 2025\n\nTo continue with
  certification towards a TRE™ Provider\, you will need to attend the Mod
 ule 2 &amp\; 3 connected to the Module 1 you sign up for.  Additional cos
 ts will apply for required supervision sessions and literature/media.  Th
 e certification process is normally completed within 12-18 months from sta
 rt of Module I.  For complete certification requirements\, please read mo
 re here.\n\n&nbsp\;
CATEGORIES:Intro Workshops / Recurring Classes / Online Events,Online
 TRE® Certification Trainings
LOCATION:https://tre-online.com/events-2/
END:VEVENT
BEGIN:VTIMEZONE
TZID:Europe/Stockholm
X-LIC-LOCATION:Europe/Stockholm
BEGIN:STANDARD
DTSTART:20241027T020000
TZOFFSETFROM:+0200
TZOFFSETTO:+0100
TZNAME:CET
END:STANDARD
END:VTIMEZONE
END:VCALENDAR