BEGIN:VCALENDAR
VERSION:2.0
PRODID:-//wp-events-plugin.com//7.2.3.1//EN
TZID:America/Los_Angeles
X-WR-TIMEZONE:America/Los_Angeles
BEGIN:VEVENT
UID:6040@treglobal.org
DTSTART;TZID=Europe/Stockholm:20240628T090000
DTEND;TZID=Europe/Stockholm:20240630T150000
DTSTAMP:20240617T112855Z
URL:https://treglobal.org/event/tre-online-global-certification-training-m
 odule-1-europe-in-english-2/
SUMMARY:TRE™ Online Global Certification Training Module 1 – [EUROPE] i
 n English
DESCRIPTION:FULLY BOOKED - NEW DATES IN SEPTEMBER - please see here\n&nbsp\
 ;\n\nWe are excited to be offering this Live Online TRE™ Module 1 traini
 ng at TRE™ Online.com\n\nDate: June 28th – 30th\nMandatory pre-module 
 meet-up June 25th 4 pm CEST\nTime: 9.00 am – 3.00 pm CEST/GMT+2\nWhere:
  Online – Zoom\nCost : € 270/ € 330\n\nLimited to 8 participants 
 online only!\n\nThis Online Module 1 training can be the first step toward
 s certification towards becoming a TRE™ Provider (outline of certificati
 on will be provided). You can also attend for personal process only.\n\nPR
 E-Requisite \nIt is recommended that participants have learnt TRE™ from
  a certified Provider/Trainer prior to attending the online training. If y
 ou haven’t yet learnt TRE™ we would highly recommend you to book a per
 sonal session as soon as possible.\n\nWelcome to this 2-day Online  Modul
 e 1  training divided into 3 shorter days\n\nSecure your spot here\n\nTh
 e training will be taught by DevaLaya Guleng\, an international TRE™ Cer
 tification Trainer\, with assistants.\n\nGoal\nTo deepen your personal pro
 cess and to help you experiencing the tremors. Each morning and afternoon 
 session you will be supported through the exercises and tremors. We will e
 xplore the theory behind the model.\n\nModule 1 will include:\n\n 	Introdu
 ction to TRE™\n 	Introduction and deepening of personal tremoring exper
 ience\n 	Anatomy\, neurology and physiology of stress and trauma as it rel
 ates to TRE™\n 	Understanding the tremor response\n 	Introduction to the
  Polyvagal theory\n 	Defence reactions as they relate to TRE™\n 	Contain
 ment and grounding strategies\n\nThe way we work\nThere will be plenty of 
 time for discussion and sharing of your experiences. We will also guide yo
 u in developing your skills so you can begin to support other people throu
 gh the exercises.\n\nDates and times:\nModule I\n(Open to anyone)\n\nTuesd
 ay\, June 25th 4.00 - 5.00 pm CEST\nFriday\, June 28th\, 9.00 am – 3.00 
 pm CEST (Stockholm/Madrid) (incl. 1 hour break in the middle of the day)\n
 Saturday\, June 29th\, 9.00 am – 3.00 pm CEST (Stockholm/Madrid) (incl. 
 1 hour break in the middle of the day)\nSunday\, June 30th\, 9.00 am – 3
 .00 pm CEST (Stockholm/Madrid) (incl. 1 hour break in the middle of the da
 y)\n\nModule 2  &amp\; Module 3\n(you’ll need to be able to attend thes
 e dates if you wish to proceed towards being a certified TRE™ Provider 
 – if you for some reason have no possibility to attend these dates and w
 ish to proceed with certification\, please contact us) \n\nMODULE 2 (Prel
 iminary dates)\n(3 shorter days Thursday – Saturday)\nprel. dates AUG 29
 th – 31st\n\nMODULE 3 (Preliminary dates)\n(3 shorter days Thursday – 
 Saturday)\nprel. dates Mid jan 2025\n\n\nModule I prices:\n€ 270 early b
 ird until May 14th 2024\n€ 330 from May 15th 2024\n\nTo continue with ce
 rtification towards a TRE™ Provider\, you will need to attend the Module
  2 &amp\; 3 connected to the Module 1 you sign up for.  Additional costs 
 will apply for required supervision sessions and literature/media.  The c
 ertification process is normally completed within 12-18 months from start 
 of Module I.  For complete certification requirements\, please read more 
 here.
CATEGORIES:Intro Workshops / Recurring Classes / Online Events,Online
 TRE® Certification Trainings
LOCATION:https://tre-online.com/events-2/
END:VEVENT
BEGIN:VTIMEZONE
TZID:Europe/Stockholm
X-LIC-LOCATION:Europe/Stockholm
BEGIN:DAYLIGHT
DTSTART:20240331T030000
TZOFFSETFROM:+0100
TZOFFSETTO:+0200
TZNAME:CEST
END:DAYLIGHT
END:VTIMEZONE
END:VCALENDAR