BEGIN:VCALENDAR
VERSION:2.0
PRODID:-//wp-events-plugin.com//7.2.3.1//EN
TZID:America/Los_Angeles
X-WR-TIMEZONE:America/Los_Angeles
BEGIN:VEVENT
UID:5938@treglobal.org
DTSTART;TZID=Europe/Stockholm:20231202T093000
DTEND;TZID=Europe/Stockholm:20231203T173000
DTSTAMP:20231108T151831Z
URL:https://treglobal.org/event/tre-online-global-certification-training-m
 odule-1-europe-cet/
SUMMARY:TRE™ Online Global Certification Training - Module 1 (Europe/CET)
DESCRIPTION:FULLY BOOKED\nPlease join our January Training to continue with
  this group for Module 2 and 3!\nModule 1 online Jan 12 - 13 2024\nWe are 
 excited to be offering this Live Online TRE™ Module 1 training at TRE™
  Online.com\n\n(divided into 3 shorter days to allow for less time in fron
 t of computer)\n\nDate: Dec 2nd - 3rd\nTime: 9.30 am - 5.30 pm CET/GMT+1\n
 Where: Online - Zoom \nCost : € 260/ € 320\n\nLimited to 8 participant
 s online only!\n\nThis Online Module 1 training can be the first step towa
 rds certification towards becoming a TRE™ Provider (outline of certifica
 tion will be provided). You can also attend for personal process only.\n\n
 PRE-Requisite \nIt is recommended that participants have learnt TRE™ fr
 om a certified Provider/Trainer prior to attending the online training. If
  you haven't yet learnt TRE™ we would highly recommend you to book a per
 sonal session as soon as possible.\n\nWelcome to this 2-day Online  Modul
 e 1  training \n\nSecure your spot here\n\nThe training will be taught b
 y DevaLaya Guleng\, an international TRE™ Certification Trainer\, with a
 ssistants.\n\nGoal\nTo deepen your personal process and to help you experi
 encing the tremors. Each morning and afternoon session you will be support
 ed through the exercises and tremors. We will explore the theory behind th
 e model.\n\nModule 1 will include:\n\n 	Introduction to TRE™\n 	Introduc
 tion and deepening of personal tremoring experience\n 	Anatomy\, neurolog
 y and physiology of stress and trauma as it relates to TRE™\n 	Understan
 ding the tremor response\n 	Introduction to the Polyvagal theory\n 	Defenc
 e reactions as they relate to TRE™\n 	Containment and grounding strategi
 es\n\nThe way we work\nThere will be plenty of time for discussion and sha
 ring of your experiences. We will also guide you in developing your skills
  so you can begin to support other people through the exercises.\n\nDates 
 and times:\nModule I\n(Open to anyone)\nSaturday\, Dec 2nd\, 9.30 am - 5.3
 0 pm CET (Stockholm/Madrid) (incl. 1\,5 hour break in the middle of the da
 y)\nSunday\, Dec 3rd\, 9.30 am - 5.30 pm CET (Stockholm/Madrid) (incl. 1\,
 5 hour break in the middle of the day)\n\nModule II  &amp\; Module III\n(
 you’ll need to be able to attend these dates if you wish to proceed towa
 rds being a certified TRE™ Provider – if you for some reason have no p
 ossibility to attend these dates and wish to proceed with certification\, 
 please contact us) \n\nMODULE II (Preliminary dates)\nprel. dates March 2
 1st - 23rd 2024\n\nMODULE III (Preliminary dates)\nprel. dates July 2024\n
 \n\nModule I prices:\n€ 260 early bird until Nov 1st 2023\n€ 320 from 
 Nov 2nd 2023\n\nTo continue with certification towards a TRE™ Provider\,
  you will need to attend the Module II &amp\; II connected to the Module I
  you sign up for.  Additional costs will apply for required supervision s
 essions and literature/media.  The certification process is normally comp
 leted within 12-18 months from start of Module I.  For complete certifica
 tion requirements\, please read more here.\n\n&nbsp\;
CATEGORIES:Intro Workshops / Recurring Classes / Online Events,Online
 TRE® Certification Trainings
LOCATION:https://tre-online.com/events/
END:VEVENT
BEGIN:VTIMEZONE
TZID:Europe/Stockholm
X-LIC-LOCATION:Europe/Stockholm
BEGIN:STANDARD
DTSTART:20231029T020000
TZOFFSETFROM:+0200
TZOFFSETTO:+0100
TZNAME:CET
END:STANDARD
END:VTIMEZONE
END:VCALENDAR