BEGIN:VCALENDAR
VERSION:2.0
PRODID:-//wp-events-plugin.com//7.2.3.1//EN
TZID:America/Los_Angeles
X-WR-TIMEZONE:America/Los_Angeles
BEGIN:VEVENT
UID:5950@treglobal.org
DTSTART;TZID=Europe/Stockholm:20240112T093000
DTEND;TZID=Europe/Stockholm:20240113T173000
DTSTAMP:20231108T150238Z
URL:https://treglobal.org/event/tre-online-global-certification-training-m
 odule-1-europe-cet-2/
SUMMARY:TRE™ Online Global Certification Training - Module 1 (Europe/CET)
DESCRIPTION:We are excited to be offering this Live Online TRE™ Module 1 
 training at TRE™ Online.com\nDate: Jan 12th - 13th\nTime: 9.30 am - 5.30
  pm CET/GMT+1\nWhere: Online - Zoom \nCost : € 260/ € 320\n\nLimited t
 o 8 participants online only!\n\nThis Online Module 1 training can be the 
 first step towards certification towards becoming a TRE™ Provider (outli
 ne of certification will be provided). You can also attend for personal pr
 ocess only.\n\nPRE-Requisite \nIt is recommended that participants have l
 earnt TRE™ from a certified Provider/Trainer prior to attending the onli
 ne training. If you haven't yet learnt TRE™ we would highly recommend yo
 u to book a personal session as soon as possible.\n\nWelcome to this 2-day
  Online  Module 1  training \n\nSecure your spot here\n\nThe training w
 ill be taught by DevaLaya Guleng\, an international TRE™ Certification T
 rainer\, with assistants.\n\nGoal\nTo deepen your personal process and to 
 help you experiencing the tremors. Each morning and afternoon session you 
 will be supported through the exercises and tremors. We will explore the t
 heory behind the model.\n\nModule 1 will include:\n\n 	Introduction to TRE
 ™\n 	Introduction and deepening of personal tremoring experience\n 	Ana
 tomy\, neurology and physiology of stress and trauma as it relates to TRE
 ™\n 	Understanding the tremor response\n 	Introduction to the Polyvagal 
 theory\n 	Defence reactions as they relate to TRE™\n 	Containment and gr
 ounding strategies\n\nThe way we work\nThere will be plenty of time for di
 scussion and sharing of your experiences. We will also guide you in develo
 ping your skills so you can begin to support other people through the exer
 cises.\n\nDates and times:\nModule I\n(Open to anyone)\nFriday\, Jan 12th\
 , 9.30 am - 5.30 pm CET (Stockholm/Madrid) (incl. 1\,5 hour break in the m
 iddle of the day)\nSaturday\, Jan 13th\, 9.30 am - 5.30 pm CET (Stockholm/
 Madrid) (incl. 1\,5 hour break in the middle of the day)\n\nModule II  &a
 mp\; Module III\n(you’ll need to be able to attend these dates if you wi
 sh to proceed towards being a certified TRE™ Provider – if you for som
 e reason have no possibility to attend these dates and wish to proceed wit
 h certification\, please contact us) \n\nMODULE II (Preliminary dates)\n(
 3 shorter days Thursday - Saturday)\nprel. dates March 21st - 23rd 2024\n\
 nMODULE III (Preliminary dates)\n(3 shorter days Thursday - Saturday)\npre
 l. dates July 4th - 6th 2024\n\n\nModule I prices:\n€ 260 early bird unt
 il Dec 1st 2023\n€ 320 from Dec 2nd 2023\n\nTo continue with certificati
 on towards a TRE™ Provider\, you will need to attend the Module II &amp\
 ; II connected to the Module I you sign up for.  Additional costs will ap
 ply for required supervision sessions and literature/media.  The certific
 ation process is normally completed within 12-18 months from start of Modu
 le I.  For complete certification requirements\, please read more here.\n
 \n&nbsp\;
CATEGORIES:Intro Workshops / Recurring Classes / Online Events,Online
 TRE® Certification Trainings
LOCATION:https://tre-online.com/events/
END:VEVENT
BEGIN:VTIMEZONE
TZID:Europe/Stockholm
X-LIC-LOCATION:Europe/Stockholm
BEGIN:STANDARD
DTSTART:20231029T020000
TZOFFSETFROM:+0200
TZOFFSETTO:+0100
TZNAME:CET
END:STANDARD
END:VTIMEZONE
END:VCALENDAR