BEGIN:VCALENDAR
VERSION:2.0
PRODID:-//wp-events-plugin.com//7.2.3.1//EN
TZID:America/Los_Angeles
X-WR-TIMEZONE:America/Los_Angeles
BEGIN:VEVENT
UID:5937@treglobal.org
DTSTART;TZID=America/Edmonton;VALUE=DATE:20231103
DTEND;TZID=America/Edmonton;VALUE=DATE:20231106
DTSTAMP:20231004T010054Z
URL:https://treglobal.org/event/tre-online-global-certification-training-m
 odule-1-canada-4/
SUMMARY:TRE™ Online Global Certification Training Module 1 – [Canada]
DESCRIPTION:Join Canadian  TRE Certification Trainers Wendy Morley and Sar
 a Clark online\, Nov 3 3 - 6pm\, Nov 4 and Nov 5 from 9 am - 4 pm (MST) fo
 r Module 1: TRE for Personal Practice. For registration and more informati
 on\, click the link.
CATEGORIES:Online TRE® Certification Trainings
LOCATION:https://www.eventbrite.ca/e/627687780047?aff=oddtdtcreator
END:VEVENT
BEGIN:VTIMEZONE
TZID:America/Edmonton
X-LIC-LOCATION:America/Edmonton
BEGIN:DAYLIGHT
DTSTART:20230312T030000
TZOFFSETFROM:-0700
TZOFFSETTO:-0600
TZNAME:MDT
END:DAYLIGHT
BEGIN:STANDARD
DTSTART:20231105T010000
TZOFFSETFROM:-0600
TZOFFSETTO:-0700
TZNAME:MST
END:STANDARD
END:VTIMEZONE
END:VCALENDAR