BEGIN:VCALENDAR
VERSION:2.0
PRODID:-//wp-events-plugin.com//7.2.3.1//EN
TZID:America/Los_Angeles
X-WR-TIMEZONE:America/Los_Angeles
BEGIN:VEVENT
UID:6060@treglobal.org
DTSTART:20241129T110000Z
DTEND:20241130T180000Z
DTSTAMP:20240731T135605Z
URL:https://treglobal.org/event/tre-online-global-certification-training-m
 odule-1-arabia/
SUMMARY:TRE™ Online Global Certification Training Module 1 – ARABIA
DESCRIPTION:TRE Online Global Certification Course taught by Alex Greene (U
 SA) and Mohammed Salah (Saudi Arabia) - English language\n&nbsp\;\nREGISTE
 R HERE\n\n\nModule 1 - November 29-30\n\n\n\n\n\n\n(USD $1000 Total Includ
 ing Supervisions)\nAfter Module 1 Requirements include:\n\n 	Private TRE s
 essions with your trainers\n 	Group Shake\n 	Explore TRE with peer session
 s\n 	Homework: TRE journaling\, reading\n\n\n\nModule 2: Learning to Teach
  TRE to Individuals\n\n\n\n\n\n\n($1500 Class  includes all Supervisions)
 \nIn this class you will\n\n 	Learn how to lead the others safely through 
 the TRE Exercise sequence\n 	Learn modifications and interventions to use 
 when needed for those who shouldn’t do the standard template\n 	Develop 
 an understanding of the polyvagal theory\n 	Work with reading the body and
  cueing a client\n 	Additional topics for teaching and strengthening your 
 TRE skill\n\nAfter Module 2 Requirements include:\n\n 	Practice Teaching w
 ith Peers\n 	TRE Supervisions of Teaching 1 individual/ Unsupervised Teach
 ing Recorded\n 	Personal Supervision Session\n 	Homework: TRE Journaling\n
 \n\n\n\n\n\n\n\n\n&nbsp\;\n\n\nModule 3: Learning to Teach a Group\n($1500
  Class/Supervisions)\n\n\n\n\n\n\n\nIn this class you will\n\n 	Expand on 
 all knowledge from past modules into group facilitation\n 	Practice more w
 ith modifications and interventions for the TRE process\n 	Be introduced t
 o running a TRE practice and business considerations\n\n \n\nAfter Module
  3 Requirements include:\n\n 	TRE Supervisions of Teaching Group/ Unsuperv
 ised Teaching RecordedPeer Sessions\n 	Personal Supervision Session\n 	Hom
 ework: TRE Journaling\, Reading\, Completed Case Study\n\n\n\n\n
CATEGORIES:Online TRE® Certification Trainings
LOCATION:https://www.trearabia.com/upcoming-courses/
END:VEVENT
END:VCALENDAR