BEGIN:VCALENDAR
VERSION:2.0
PRODID:-//wp-events-plugin.com//7.2.3.1//EN
TZID:America/Los_Angeles
X-WR-TIMEZONE:America/Los_Angeles
BEGIN:VEVENT
UID:6117@treglobal.org
DTSTART;TZID=Africa/Johannesburg;VALUE=DATE:20250319
DTEND;TZID=Africa/Johannesburg;VALUE=DATE:20250322
DTSTAMP:20241101T091920Z
URL:https://treglobal.org/event/tre-online-global-certification-training-m
 odule-1-5/
SUMMARY:TRE™ Online Global Certification Training Module 1 South Africa/I
 srael
DESCRIPTION:\n\nONLINE MODULE ONE is open for Provider trainees and can als
 o be taken as a stand-alone workshop for personal TRE™. \nYou are traini
 ng with TWO Certification Trainers - Anya Bloom/Israel and Su Thomas/South
  Africa in an international trainee group.\n\n\n\n\n\nMODULE ONE (Course 
 Start) \n19 - 21 March 2025 \nAll our Modules begin on a Wednesday eveni
 ng\, continue on Thursday morning and afternoon and end on Friday morning.
  Time displayed here is GMT+2 or SAST \nWed 17:00 – 20:00 Thursday 9:00 
 – 12:00 and 14:00 – 17:00  Friday 9:00 – 12:00 \n\n\nFor detailed 
 information and fees\, please download our brochure from our website\nhttp
 s://treinternationaltraining.com\nRegistration Form for 2025 Module One Wo
 rkshops  \nhttps://forms.gle/1B8AS1rMg5gxmJy4A\n\n
CATEGORIES:Online TRE® Certification Trainings
LOCATION:https://www.treinternationaltraining.com/
END:VEVENT
BEGIN:VTIMEZONE
TZID:Africa/Johannesburg
X-LIC-LOCATION:Africa/Johannesburg
BEGIN:STANDARD
DTSTART:20240319T000000
TZOFFSETFROM:+0200
TZOFFSETTO:+0200
TZNAME:SAST
END:STANDARD
END:VTIMEZONE
END:VCALENDAR