BEGIN:VCALENDAR
VERSION:2.0
PRODID:-//wp-events-plugin.com//7.2.3.1//EN
TZID:America/Los_Angeles
X-WR-TIMEZONE:America/Los_Angeles
BEGIN:VEVENT
UID:6051@treglobal.org
DTSTART;TZID=America/Chicago:20240518T100000
DTEND;TZID=America/Chicago:20240519T170000
DTSTAMP:20240429T235847Z
URL:https://treglobal.org/event/tre-online-global-certification-training-m
 odule-1-4/
SUMMARY:TRE™ Online Global Certification Training Module 1
DESCRIPTION:In person TRE Module 1 and Intro to Agency Training taught by J
 acy Sundlie\, TRE Global Certification Trainer. Jacy has worked with Dr Be
 rceli for more than 15 years. She helped put together the TRE Certificatio
 n Program and has helped train the VA staff in Madison\, Wisconsin as an A
 gency Training. She put together an Agency Training intro workshop with Dr
 . Berceli in April 2023 and worked with a team to train the FDNY and start
 ed TRE Agency Training with Alex Greene to work with Agencies around the U
 S.  www.TREagencytraining.com\n\nThe training is open to all. If you are 
 curious to see what TRE can do for you and/or your Agency\, please join us
  as we learn more how TRE can release stress and daily trauma from your bo
 dy. Healthcare agencies and workers will be offered a 10% discount. The co
 st for this Module 1 and beginning of Agency training is $400.00. Please c
 ontact Jacy for more information and questions.\n\nto register go to www.T
 REagencytraining.com or www.naturalstressrelease.com or contact Jacy for q
 uestions at 97 0-948-5154
CATEGORIES:Certification Trainings
LOCATION:Collaborative Solutions in Psychiatry\, 6515 Grand Teton Plaza\, S
 uite 220\, Madison\, Wisconsin\, United States
X-APPLE-STRUCTURED-LOCATION;VALUE=URI;X-ADDRESS=6515 Grand Teton Plaza\, Su
 ite 220\, Madison\, Wisconsin\, United States;X-APPLE-RADIUS=100;X-TITLE=C
 ollaborative Solutions in Psychiatry:geo:0,0
END:VEVENT
BEGIN:VTIMEZONE
TZID:America/Chicago
X-LIC-LOCATION:America/Chicago
BEGIN:DAYLIGHT
DTSTART:20240310T030000
TZOFFSETFROM:-0600
TZOFFSETTO:-0500
TZNAME:CDT
END:DAYLIGHT
END:VTIMEZONE
END:VCALENDAR