BEGIN:VCALENDAR
VERSION:2.0
PRODID:-//wp-events-plugin.com//7.2.3.1//EN
TZID:America/Los_Angeles
X-WR-TIMEZONE:America/Los_Angeles
BEGIN:VEVENT
UID:5936@treglobal.org
DTSTART:20231115T150000Z
DTEND:20231117T180000Z
DTSTAMP:20230929T142249Z
URL:https://treglobal.org/event/tre-online-global-certification-training-m
 odule-1-2/
SUMMARY:TRE™ Online Global Certification Training M1 - South Africa/Israe
 l
DESCRIPTION:\n\n\n\n\nAll MODULE ONE workshops are open to anyone who likes
  to learn TRE™  and continue to use it as an empowering practice. \n\n
 Module TWO and THREE are open for those who train to certify.Please regist
 er your attendance early to secure your spot– space is limited as all te
 aching is live and interactive.\n\nYou may register only for  the Module 
 ONE or for the Certification Training.  You may even decide after the fi
 rst Module if you like to continue. We will confirm your registration and 
 you will be issued an invoice.\n\n\nRegistration Form : Registration for 
 Module One\nDOWNLOAD OUR BROCHURE:\nTRE Training Info Brochure 2023/24\n\n
 \n\n\n\nTime Zone is GMT+2 (Johannesburg\, South Africa or SAST)\n\n\n\n\n
 \n\nCOURSE START  15 - 17 November 2023\n\n\n\nMODULE ONE Wednesday 15 
 November 17:00 – 20:00\nThursday 16 November 9:00 – 17:00\nFriday 17 N
 ovember 9:00 – 12:00\nMODULE TWO \nWednesday 24 January 2024 @ 17:00 
 – 20:00\nThursday 25 January 2024 @ 9:00 – 17:00\nFriday 26 January 20
 24 @ 9:00 – 12:00\nMODULE THREE Wednesday 17 April 2024 @ 16:30 – 19:
 30\nThursday 18 April @ 8:30 – 16:30\nFriday 19 April @ 8:30 – 11:30\n
 \n\n\n\n\n
CATEGORIES:Online TRE® Certification Trainings
LOCATION:https://www.treinternationaltraining.com/tre-online-certification
END:VEVENT
END:VCALENDAR