BEGIN:VCALENDAR
VERSION:2.0
PRODID:-//wp-events-plugin.com//7.2.3.1//EN
TZID:America/Los_Angeles
X-WR-TIMEZONE:America/Los_Angeles
BEGIN:VEVENT
UID:6118@treglobal.org
DTSTART;TZID=Africa/Johannesburg;VALUE=DATE:20250625
DTEND;TZID=Africa/Johannesburg;VALUE=DATE:20250628
DTSTAMP:20250514T192551Z
URL:https://treglobal.org/event/tre-online-global-certification-training-m
 1-south-africa-israel-2/
SUMMARY:TRE™ Online Global Certification Training M1 - South Africa/Israe
 l
DESCRIPTION:\n\nONLINE MODULE ONE is open for Provider trainees and can als
 o be taken as a stand-alone workshop for personal TRE™. \nYou are traini
 ng with TWO Certification Trainers - Anya Bloom/Israel and Su Thomas/South
  Africa in an international trainee group.\n\n\n\n\n\nMODULE ONE (Course 
 Start) \n25 - 27 June 2025 \nAll our Modules begin on a Wednesday evenin
 g\, continue on Thursday morning and afternoon and end on Friday morning. 
 Time displayed here is GMT+2 or SAST \nWed 16:30 – 19:30 Thursday 8:30 
 – 11:30 and 13:30 – 16:30  Friday 8:30 – 11:30 \n\n\nFor detailed 
 information and fees\, please download our brochure from our website\nhttp
 s://treinternationaltraining.com\nRegistration Form for 2025 Module One Wo
 rkshops  \nhttps://forms.gle/zUX7F4YPiqTMhHAV9\n\n
ATTACH;FMTTYPE=image/jpeg:https://treglobal.org/wp-content/uploads/2024/11
 /Cream-Round-Icon-500Logo-2.jpg
CATEGORIES:Certification Trainings,Intro Workshops / Recurring Classes /
 Online Events,Online TRE® Certification Trainings
LOCATION:https://www.treinternationaltraining.com/
END:VEVENT
BEGIN:VTIMEZONE
TZID:Africa/Johannesburg
X-LIC-LOCATION:Africa/Johannesburg
BEGIN:STANDARD
DTSTART:20240625T000000
TZOFFSETFROM:+0200
TZOFFSETTO:+0200
TZNAME:SAST
END:STANDARD
END:VTIMEZONE
END:VCALENDAR