BEGIN:VCALENDAR
VERSION:2.0
PRODID:-//wp-events-plugin.com//7.2.3.1//EN
TZID:America/Los_Angeles
X-WR-TIMEZONE:America/Los_Angeles
BEGIN:VEVENT
UID:6002@treglobal.org
DTSTART;TZID=America/Denver:20240803T090000
DTEND;TZID=America/Denver:20240804T160000
DTSTAMP:20240421T182255Z
URL:https://treglobal.org/event/tre-online-certification-training-with-ale
 x-greene-module-1-2-3-series-colorado-usa/
SUMMARY:TRE™ Online Certification Training Module 1[Colorado\, USA]
DESCRIPTION:\n\nModule 1 - August 3-4\, 2024 9:00am - 4:00pm MT\nModule 2 -
  November 16-17\, 2024 9:00am - 4:00pm MT\nModule 3 - February 15-16\, 202
 5 9:00am - 4:00pm MT\nFull Pricing Information\n\nThis program is open to 
 participants from any professional background intending to pursue TRE™ G
 lobal Certification.  Other Module 1 trainings are open to a general audi
 ence that is not necessarily interested in Certification\, but this progra
 m is intended for those with an intention to become a Certified Provider. 
 (Attending Module 1 does not obligate one to continue the certification\, 
 but the emphasis of the training will be geared towards those seeking cert
 ification.)\n\nPlease email alex@redbeardsomatictherapy.com to register or
  for more information.\nMore information at redbeardTRE.com\n54 NCBTMB CEU
 s for full Certification\n12 CEUs for each Module\n&nbsp\;\n\n&nbsp\;\n\n\
 n\nAlex came to TRE in 2014 with a background as a Structural Integration 
 bodyworker. Having seen and experienced spontaneous tremoring arising from
  bodywork sessions\, Alex was excited to finally find a method with a soli
 d understanding of what this tremoring process is\, and how to best work w
 ith it. Alex continues to integrate TRE along with Somatic Experiencing\, 
 Internal Family Systems Model\, the Safe &amp\; Sound Protocol\, and DARe 
 attchment work to help his clients resolve the symptoms of chronic stress 
 and trauma and their impact on the body and nervous system. Working live a
 nd online\, Alex has helped many people from around the world find comfort
 \, ease\, and groundedness in themselves.\nSince 2019 Alex has been please
 d to join the TRE Trainer community and has found fresh enthusiasm for sha
 ring the magic of this modality with students from various countries\, pro
 fessional backgrounds\, and intended use of TRE. Alex is known for his kno
 wledgeable and relaxed teaching style\, working on weaving the various asp
 ects of his background into a grounded\, experiential training.\n\n\n\nIn 
 2020 Alex joined the TRE For All Board of Directors to help foster the gro
 wth of TRE around the world.   Alex also brings his background as a Zen 
 meditation teacher to his work with TRE\, believing that somatic methods l
 ike TRE are wonderful gateways into deepening meditation experience.\nTo h
 ear Alex in conversation with TRE Trainers\, Providers\, and practitioners
  all around the world\, check out his podcast - the Red Beard Embodiment P
 odcast.\n\n\n&nbsp\;\n\n
CATEGORIES:Online TRE® Certification Trainings
LOCATION:http://www.redbeardTRE.com
END:VEVENT
BEGIN:VTIMEZONE
TZID:America/Denver
X-LIC-LOCATION:America/Denver
BEGIN:DAYLIGHT
DTSTART:20240310T030000
TZOFFSETFROM:-0700
TZOFFSETTO:-0600
TZNAME:MDT
END:DAYLIGHT
END:VTIMEZONE
END:VCALENDAR