BEGIN:VCALENDAR
VERSION:2.0
PRODID:-//wp-events-plugin.com//7.2.3.1//EN
TZID:America/Los_Angeles
X-WR-TIMEZONE:America/Los_Angeles
BEGIN:VEVENT
UID:5421@treglobal.org
DTSTART;TZID=America/Denver:20210910T090000
DTEND;TZID=America/Denver:20210911T200000
DTSTAMP:20210909T170855Z
URL:https://treglobal.org/event/tre-online-advanced-training/
SUMMARY:TRE™ Online Advanced Training (Weekend Part 1) with Dr. David Ber
 celi
DESCRIPTION:TRE™ Advanced Training with Dr. Berceli and Global TRE™ Cer
 tification Trainers.\n\nDates of Training Part 1:  September 10-11\nDates
  of Training Part 2:  September 24-25\n\nTimes of Training (Both weekends
 ):  9am to 1pm &amp\; 4pm to 8pm  UTC-6/Mountain Time US\n\nCost: Per da
 y $125 or $450 for all 4 days\n\nThere are 4 full days of education during
  this global advanced training. Dr. Berceli will be teaching every day alo
 ng with Global Trainers from Italy\, Canada\, South Africa\, USA\, and the
  UK just to name a few countries. Join us for 1\, 2\, 3\, or 4 full days. 
 Watch for more information and videos on the many areas of expertise you w
 ill have access to. To register\, go to www.naturalstressrelease.com or co
 ntact Jacy Sundlie at jacy@naturalstressrelease.com or call 970-948-5154.\
 n\n&nbsp\;\n\nWelcome from Dr. David Berceli -\n\nhttps://youtu.be/bMAKWX-
 OfRY\n\n&nbsp\;\n\nMeet Richmond Heath -\n\nhttps://youtu.be/Gy3IZNmVEec\n
 \n&nbsp\;\n\nMeet Haley Ritzlmayr - \n\nhttps://youtu.be/xWl6rD7OLJE\n\n&
 nbsp\;\n\nMeet Sheila Frick -\n\nhttps://youtu.be/6PighBU1LBU\n\n&nbsp\;
ATTACH;FMTTYPE=image/jpeg:https://treglobal.org/wp-content/uploads/2021/07
 /Schedule-2-Update.jpeg
CATEGORIES:Events with Dr. David Berceli,TRE FOR ALL Endorsed Advanced
 Trainings
LOCATION:ONLINE Zoom\, -\, -\, Israel
GEO:31.046051;34.851612
X-APPLE-STRUCTURED-LOCATION;VALUE=URI;X-ADDRESS=-\, -\, Israel;X-APPLE-RADI
 US=100;X-TITLE=ONLINE Zoom:geo:31.046051,34.851612
END:VEVENT
BEGIN:VTIMEZONE
TZID:America/Denver
X-LIC-LOCATION:America/Denver
BEGIN:DAYLIGHT
DTSTART:20210314T030000
TZOFFSETFROM:-0700
TZOFFSETTO:-0600
TZNAME:MDT
END:DAYLIGHT
END:VTIMEZONE
END:VCALENDAR