BEGIN:VCALENDAR
VERSION:2.0
PRODID:-//wp-events-plugin.com//7.2.3.1//EN
TZID:America/Los_Angeles
X-WR-TIMEZONE:America/Los_Angeles
BEGIN:VEVENT
UID:5428@treglobal.org
DTSTART;TZID=America/Denver:20210924T090000
DTEND;TZID=America/Denver:20210925T200000
DTSTAMP:20210909T170913Z
URL:https://treglobal.org/event/tre-online-advanced-training-weekend-1-wit
 h-dr-david-berceli/
SUMMARY:TRE™ Online Advanced Training (Weekend Part 2) with Dr. David Ber
 celi
DESCRIPTION:TRE Advanced Training with Dr. Berceli and Global TRE Certifica
 tion Trainers.\n\nDates of Training Part 1:  September 10-11\nDates of Tr
 aining Part 2:  September 24-25\n\nTimes of Training (Both weekends):  9
 am to 1pm &amp\; 4pm to 8pm  UTC-6/Mountain Time US\n\nCost: Per day $125
  or $450 for all 4 days\n\nThere are 4 full days of education during this 
 global advanced training. Dr. Berceli will be teaching every day along wit
 h Global Trainers from Italy\, Canada\, South Africa\, USA\, and the UK ju
 st to name a few countries. Join us for 1\, 2\, 3\, or 4 full days. Watch 
 for more information and videos on the many areas of expertise you will ha
 ve access to. To register\, go to www.naturalstressrelease.com or contact 
 Jacy Sundlie at jacy@naturalstressrelease.com or call 970-948-5154.\n\nWel
 come from Dr. David Berceli -\n\nhttps://youtu.be/bMAKWX-OfRY\n\n&nbsp\;\n
 \nMeet Jacquie Wheeler -\n\nhttps://youtu.be/GYmyiBKtnVY\n\n&nbsp\;\n\nMee
 t Deborah Brown -\n\nhttps://youtu.be/pLeEwEMKn3U\n\n&nbsp\;\n\nMeet Cheda
  Mikic -\n\nhttps://youtu.be/MVduLEJCWcY\n\n&nbsp\;
ATTACH;FMTTYPE=image/jpeg:https://treglobal.org/wp-content/uploads/2021/07
 /Schedule-2-Update-1.jpeg
CATEGORIES:Events with Dr. David Berceli,TRE FOR ALL Endorsed Advanced
 Trainings
LOCATION:ONLINE Zoom\, -\, -\, Israel
GEO:31.046051;34.851612
X-APPLE-STRUCTURED-LOCATION;VALUE=URI;X-ADDRESS=-\, -\, Israel;X-APPLE-RADI
 US=100;X-TITLE=ONLINE Zoom:geo:31.046051,34.851612
END:VEVENT
BEGIN:VTIMEZONE
TZID:America/Denver
X-LIC-LOCATION:America/Denver
BEGIN:DAYLIGHT
DTSTART:20210314T030000
TZOFFSETFROM:-0700
TZOFFSETTO:-0600
TZNAME:MDT
END:DAYLIGHT
END:VTIMEZONE
END:VCALENDAR