BEGIN:VCALENDAR
VERSION:2.0
PRODID:-//wp-events-plugin.com//7.2.3.1//EN
TZID:America/Los_Angeles
X-WR-TIMEZONE:America/Los_Angeles
BEGIN:VEVENT
UID:5920@treglobal.org
DTSTART;TZID=Europe/London:20241108T183000
DTEND;TZID=Europe/London:20241108T200000
DTSTAMP:20241016T110506Z
URL:https://treglobal.org/event/tre-non-beginners-practice-group-london-ki
 ngs-cross-islington-with-chandani-amin-statesofhealing/
SUMMARY:TRE Monthly Community Shake\, London (In-person\, Kings Cross/ Isli
 ngton) with Chandani Amin @statesofhealing
DESCRIPTION:A warm invitation to my monthly drop in TRE Community Group Sha
 kes!  These groups are for those who know what TRE is and have begun thei
 r own practice\, providing a held space to explore your personal practice 
 with other regular shakers.  Numbers are kept small for intimacy and to a
 llow for personalised support.\n\n&nbsp\;\n\nMain details:\n\nFriday 8 Nov
 ember 630-8pm (90mins)\n\nThe Practice Rooms\, 150 Caledonian Road\, Londo
 n\, N1 9RD\n\nCost: £30 per person\, get in touch with Chandani statesofh
 ealing@gmail.com to book.  Cancellation policy is 24 hours’ notice.\n\n
 &nbsp\;\n\nThese groups are run monthly.  ICf you'd like to join my maili
 ng list please send me a message.\n\nChandani Amin\nwww.statesofhealing.co
 m
CATEGORIES:Intro Workshops / Recurring Classes / Online Events
LOCATION:The Practice Rooms Islington\, 150 Caledonian Road\, London\, N1 9
 RD\, United Kingdom
X-APPLE-STRUCTURED-LOCATION;VALUE=URI;X-ADDRESS=150 Caledonian Road\, Londo
 n\, N1 9RD\, United Kingdom;X-APPLE-RADIUS=100;X-TITLE=The Practice Rooms 
 Islington:geo:0,0
END:VEVENT
BEGIN:VTIMEZONE
TZID:Europe/London
X-LIC-LOCATION:Europe/London
BEGIN:STANDARD
DTSTART:20241027T010000
TZOFFSETFROM:+0100
TZOFFSETTO:+0000
TZNAME:GMT
END:STANDARD
END:VTIMEZONE
END:VCALENDAR