BEGIN:VCALENDAR
VERSION:2.0
PRODID:-//wp-events-plugin.com//7.2.3.1//EN
TZID:America/Los_Angeles
X-WR-TIMEZONE:America/Los_Angeles
BEGIN:VEVENT
UID:5955@treglobal.org
DTSTART;TZID=Europe/London:20240126T121500
DTEND;TZID=Europe/London:20240126T140000
DTSTAMP:20231229T130010Z
URL:https://treglobal.org/event/tre-newark-nottingham-uk/
SUMMARY:TRE Newark Nottingham UK
DESCRIPTION:https://www.treenewark.co.uk/ Tree is an amazing well-being hub
  in the centre of Newark Nottingham UK. The wonderful owner Wendy has acqu
 ired funds to allow subsidised sessions for a small group of up to 8 peopl
 e on the last Friday of each month class starts at 12.15pm and will finish
  by 2pm.
CATEGORIES:Intro Workshops / Recurring Classes / Online Events
LOCATION:https://www.tickettailor.com/events/treeofwellbeing/1085717?
END:VEVENT
BEGIN:VTIMEZONE
TZID:Europe/London
X-LIC-LOCATION:Europe/London
BEGIN:STANDARD
DTSTART:20231029T010000
TZOFFSETFROM:+0100
TZOFFSETTO:+0000
TZNAME:GMT
END:STANDARD
END:VTIMEZONE
END:VCALENDAR