BEGIN:VCALENDAR
VERSION:2.0
PRODID:-//wp-events-plugin.com//7.2.3.1//EN
TZID:America/Los_Angeles
X-WR-TIMEZONE:America/Los_Angeles
BEGIN:VEVENT
UID:5865@treglobal.org
DTSTART;TZID=Europe/London:20230728T100000
DTEND;TZID=Europe/London:20230730T180000
DTSTAMP:20230525T102101Z
URL:https://treglobal.org/event/tre-module-1-certification-training-online
 -with-cheda-mikic-trecentre-com/
SUMMARY:TRE Module 1 Certification Training\, Online with Cheda Mikic\, tre
 centre.com
DESCRIPTION:28/29/30 July 2023 Online\nThis TRE™ Module 1 workshop is ope
 n to everyone:\n\n\n 	You can attend to learn about using the tremors to s
 upport your own health. You will learn about being in your body and self r
 egulating in response to tension\, stress and trauma.\n 	You can attend th
 e workshop as the start of the process to teach TRE™ to individuals.\n\n
 The course is very practical and experiential. The theory of a TRE™ mode
 l will be explored through the exercises\, tremors and other involuntary a
 nd spontaneous movements.\nThere will be lots of time for discussion and s
 haring of experiences.\nModule 1 will include:\n\n\n 	TRE™ Concepts\n 	A
 natomy\, neurology and physiology of stress and trauma as it relates to TR
 E™\n 	Understanding the tremor response and involuntary body movements\n
  	Introduction to the Triune brain theory\n 	Introduction to the Polyvagal
  theory: How humans are always checking for safety.\n 	Tremorgenesis\n 	Co
 ntainment\, Orientation and Grounding strategies - OMG concepts\n 	Introdu
 ction to personal TRE™ tremoring experience.\n 	Working other individual
 s\n 	Introduction to basic skills of working with individuals\n 	Basic TRE
 ™ Interventions (verbal and tactile interventions)\n 	Post traumatic Gro
 wth\n\n\nAny questions please email contact@trecentre.com\n\nwww.trecentre
 .com/calendar/module-1-online
CATEGORIES:Online TRE® Certification Trainings
LOCATION:https://www.trecentre.com/calendar/module-1-online
END:VEVENT
BEGIN:VTIMEZONE
TZID:Europe/London
X-LIC-LOCATION:Europe/London
BEGIN:DAYLIGHT
DTSTART:20230326T020000
TZOFFSETFROM:+0000
TZOFFSETTO:+0100
TZNAME:BST
END:DAYLIGHT
END:VTIMEZONE
END:VCALENDAR