BEGIN:VCALENDAR
VERSION:2.0
PRODID:-//wp-events-plugin.com//7.2.3.1//EN
TZID:America/Los_Angeles
X-WR-TIMEZONE:America/Los_Angeles
BEGIN:VEVENT
UID:5998@treglobal.org
DTSTART;TZID=Europe/London:20240322T100000
DTEND;TZID=Europe/London:20240324T180000
DTSTAMP:20240203T121532Z
URL:https://treglobal.org/event/tre-module-1-3-days-in-person-london-and-o
 nline-with-cheda-mikic-tre-centre/
SUMMARY:TRE Module 1 (3 days\, In-person London and Online) with Cheda Miki
 c\, TRE Centre
DESCRIPTION:Module 1 - Personal TRE process and working with Individuals\nT
 HIS WILL BE AN IN PERSON AND ONLINE COURSE.\nThe course will cover persona
 l skills and work with individuals. The course is very practical and exper
 iential.\nThe theory of a TRE™ model will be explored through the exerci
 ses\, tremors and other involuntary and spontaneous movements. There will 
 be lots of time for discussion and sharing of experiences.\nModule 1 will 
 include:\n• TRE™ Concepts\n• Anatomy\, neurology and physiology of s
 tress and trauma as it relates to TRE™\n• Understanding the tremor res
 ponse and involuntary body movements\n• Introduction to the Triune brain
  theory\n• Introduction to the Polyvagal theory: How humans are always c
 hecking for safety.\n• Tremorgenesis\n• Containment\, Orientation and 
 Grounding strategies - OMG concepts\n• Introduction to personal TRE™ t
 remoring experience.\n• Working other individuals\n• Introduction to b
 asic skills of working with individuals\n• Basic TRE™ Interventions (v
 erbal and tactile interventions)\n• Post traumatic Growth\nThis TRE™ M
 odule 1 workshop is open to everyone. You can attend to learn about using 
 the tremors to support your own health. You will learn about being in your
  body and self regulating in response to tension\, stress and trauma. You 
 can attend the workshop as the start of the process to teach TRE™ to ind
 ividuals.\nTo learn more about the entire TRE Certification Program\, down
 load the brochure on the website or alternatively reach us at contact@trec
 entre.com
CATEGORIES:Certification Trainings,Intro Workshops / Recurring Classes /
 Online Events,Online TRE® Certification Trainings
LOCATION:Centre151\, 151 Whiston Road\, London\, E2 8GU\, United Kingdom
X-APPLE-STRUCTURED-LOCATION;VALUE=URI;X-ADDRESS=151 Whiston Road\, London\,
  E2 8GU\, United Kingdom;X-APPLE-RADIUS=100;X-TITLE=Centre151:geo:0,0
END:VEVENT
BEGIN:VTIMEZONE
TZID:Europe/London
X-LIC-LOCATION:Europe/London
BEGIN:STANDARD
DTSTART:20231029T010000
TZOFFSETFROM:+0100
TZOFFSETTO:+0000
TZNAME:GMT
END:STANDARD
END:VTIMEZONE
END:VCALENDAR