BEGIN:VCALENDAR
VERSION:2.0
PRODID:-//wp-events-plugin.com//7.2.3.1//EN
TZID:America/Los_Angeles
X-WR-TIMEZONE:America/Los_Angeles
BEGIN:VEVENT
UID:5859@treglobal.org
DTSTART;TZID=America/Los_Angeles:20230611T080000
DTEND;TZID=America/Los_Angeles:20230611T200000
DTSTAMP:20230515T165111Z
URL:https://treglobal.org/event/tre-inverventions-advanced-training-with-d
 r-berceli-cheda-mikic-and-mariano-pedroza/
SUMMARY:TRE Inverventions Advanced Training with Dr. Berceli\, Cheda Mikic\
 , and Mariano Pedroza
DESCRIPTION:Looking to take your skills as a TRE Provider to the next level
 ? \nOur advanced training in interventions for TRE™ is just what you nee
 d!\nOur experienced TRE Certification Trainers\, Dr. David Berceli\, Cheda
  Mikic\, and Mariano Pedroza in stress and trauma release\, all of whom ar
 e committed to helping you take your skills to the next level. Whether you
  are looking to enhance your existing practice or take on more challenging
  cases\, our advanced training in interventions in TRE is the perfect way 
 to achieve your professional goals.\nDon't miss this opportunity to advanc
 e your skills and expand your practice. Enroll today and start transformin
 g the lives of your clients and deepening of your skillset!\n\nDetails:\nC
 ost:$100 Earlybird Thru 5/22\n$125 after 5/22\nWhen: 8:00 AM (PST/ Los Ang
 elos)\nWhere: Zoom\nRegister: Here\n\n\n
CATEGORIES:TRE FOR ALL Endorsed Advanced Trainings
LOCATION:https://events.eventzilla.net/e/tre-interventions-2138590124
END:VEVENT
BEGIN:VTIMEZONE
TZID:America/Los_Angeles
X-LIC-LOCATION:America/Los_Angeles
BEGIN:DAYLIGHT
DTSTART:20230312T030000
TZOFFSETFROM:-0800
TZOFFSETTO:-0700
TZNAME:PDT
END:DAYLIGHT
END:VTIMEZONE
END:VCALENDAR