BEGIN:VCALENDAR
VERSION:2.0
PRODID:-//wp-events-plugin.com//7.2.3.1//EN
TZID:America/Los_Angeles
X-WR-TIMEZONE:America/Los_Angeles
BEGIN:VEVENT
UID:1585@treglobal.org
DTSTART;TZID=America/Los_Angeles:20160204T130000
DTEND;TZID=America/Los_Angeles:20160204T170000
DTSTAMP:20160323T150930Z
URL:https://treglobal.org/event/tre-introductory-workshop-open-to-the-publ
 ic/
SUMMARY:TRE Introductory Workshop - open to the public
DESCRIPTION:This is an introductory workshop for everyone interested in TRE
  for self-care. This event is open to the general public.The Workshop is d
 esigned to teach you the TRE protocol and how to self-regulate your TRE ex
 perience when necessary. It includes two slide presentations: "The biolog
 y of Stress\, Trauma and TRE" and "TRE Self-Regulation"2 guided TRE practi
 ce sessionsa detailed booklet that illustrates the full TRE sequenceindivi
 dual assists with adapting the exercises to your body's needsquestions/ans
 wers\, and feedback. Cost is $100To register\, contact Mary at 828 284-36
 88 About the Facilitator:Mary Whitesides\, MM\, LMBT is a licensed Bodywo
 rk Therapist (NC #7904). She has been trained and certified as TRE Provide
 r and TRE Mentor by Dr. David Berceli\, the creator of TRE.
LOCATION:Women's Wellness and Education Center\, 24 Arlington Street\, Ashe
 ville\, NC\, 28806\, United States
GEO:35.6011957;-82.54558550000002
X-APPLE-STRUCTURED-LOCATION;VALUE=URI;X-ADDRESS=24 Arlington Street\, Ashev
 ille\, NC\, 28806\, United States;X-APPLE-RADIUS=100;X-TITLE=Women's Welln
 ess and Education Center:geo:35.6011957,-82.54558550000002
END:VEVENT
BEGIN:VTIMEZONE
TZID:America/Los_Angeles
X-LIC-LOCATION:America/Los_Angeles
BEGIN:STANDARD
DTSTART:20151101T010000
TZOFFSETFROM:-0700
TZOFFSETTO:-0800
TZNAME:PST
END:STANDARD
END:VTIMEZONE
END:VCALENDAR