BEGIN:VCALENDAR
VERSION:2.0
PRODID:-//wp-events-plugin.com//7.2.3.1//EN
TZID:America/Los_Angeles
X-WR-TIMEZONE:America/Los_Angeles
BEGIN:VEVENT
UID:1587@treglobal.org
DTSTART;TZID=America/Los_Angeles:20160402T130000
DTEND;TZID=America/Los_Angeles:20160402T170000
DTSTAMP:20160325T143139Z
URL:https://treglobal.org/event/tre-introductory-workshop-for-self-care/
SUMMARY:TRE Introductory Workshop for Self Care
DESCRIPTION:The Workshop is designed to teach you the TRE protocol and how 
 to self-regulate your TRE experience when necessary. It includes two slid
 e presentations: "The biology of Stress\, Trauma and TRE" and "TRE Self-Re
 gulation"2 guided TRE practice sessionsa detailed booklet that illustrates
  the full TRE sequenceindividual assists with adapting the exercises to yo
 ur body's needsquestions/answers\, and feedback. Cost $100To register: Ca
 ll Mary 828 284-3688  About the Facilitator:Mary Whitesides\, LMBT\, is 
 a licensed Bodywork Therapist (NC #7904) who specializes body-based therap
 y for insight and growth. She has been trained and certified as a TRE Prac
 titioner and TRE Mentor by Dr. David Berceli\, the creator of TRE.
LOCATION:Women's Wellness and Education Center\, 24 Arlington Street\, Ashe
 ville\, NC\, 28806\, United States
GEO:35.6011957;-82.54558550000002
X-APPLE-STRUCTURED-LOCATION;VALUE=URI;X-ADDRESS=24 Arlington Street\, Ashev
 ille\, NC\, 28806\, United States;X-APPLE-RADIUS=100;X-TITLE=Women's Welln
 ess and Education Center:geo:35.6011957,-82.54558550000002
END:VEVENT
BEGIN:VTIMEZONE
TZID:America/Los_Angeles
X-LIC-LOCATION:America/Los_Angeles
BEGIN:DAYLIGHT
DTSTART:20160313T030000
TZOFFSETFROM:-0800
TZOFFSETTO:-0700
TZNAME:PDT
END:DAYLIGHT
END:VTIMEZONE
END:VCALENDAR