BEGIN:VCALENDAR
VERSION:2.0
PRODID:-//wp-events-plugin.com//7.2.3.1//EN
TZID:America/Los_Angeles
X-WR-TIMEZONE:America/Los_Angeles
BEGIN:VEVENT
UID:6134@treglobal.org
DTSTART;TZID=America/New_York:20250119T123000
DTEND;TZID=America/New_York:20250119T173000
DTSTAMP:20241216T202042Z
URL:https://treglobal.org/event/tre-guided-meditation-retreat-at-the-sault
 -haus-with-bonnie-pariser/
SUMMARY:TRE + Guided Meditation Retreat at the Sault Haus with Bonnie Paris
 er
DESCRIPTION:Do you find yourself often reacting to triggers and/or experien
 ce the discomfort of tension and symptoms related to stress held in your b
 ody? Using Tension &amp\; Trauma Release Exercises (TRE)\, journaling\, se
 lf-inquiry\, and guided meditation\, you’ll learn to loosen the hold of 
 reactive emotional patterns and experience a a deeper sense of freedom and
  peace. TRE is a powerful daily practice that helps reduce bodily tension\
 , shift reactivity\, &amp\; release trauma. Bonnie is a certified TRE faci
 litator.\n\nSunday 12:30-5:30pm EST\n\n1/19\n\n$150.00\nMore information a
 nd to sign up https://www.saulthaus.com/
CATEGORIES:Intro Workshops / Recurring Classes / Online Events
LOCATION:https://www.saulthaus.com/
END:VEVENT
BEGIN:VTIMEZONE
TZID:America/New_York
X-LIC-LOCATION:America/New_York
BEGIN:STANDARD
DTSTART:20241103T010000
TZOFFSETFROM:-0400
TZOFFSETTO:-0500
TZNAME:EST
END:STANDARD
END:VTIMEZONE
END:VCALENDAR