BEGIN:VCALENDAR
VERSION:2.0
PRODID:-//wp-events-plugin.com//7.2.3.1//EN
TZID:America/Los_Angeles
X-WR-TIMEZONE:America/Los_Angeles
BEGIN:VEVENT
UID:6130@treglobal.org
DTSTART;TZID=Europe/London:20250201T150000
DTEND;TZID=Europe/London:20250201T170000
DTSTAMP:20241211T115442Z
URL:https://treglobal.org/event/tre-group-workshop-in-person-with-chandani
 -statesofhealing-london-uk-6/
SUMMARY:TRE Group Workshop (In-Person) with Chandani @statesofhealing\, Lon
 don UK
DESCRIPTION:TRE Introductory Workshop\n\nFull details and Booking: fienta.c
 om/treworkshop\n\nIf you have questions please email Chandani statesofheal
 ing@gmail.com\n\n&nbsp\;\n\n&nbsp\;
CATEGORIES:Intro Workshops / Recurring Classes / Online Events
LOCATION:The Practice Rooms Islington\, 150 Caledonian Road\, London\, N1 9
 RD\, United Kingdom
X-APPLE-STRUCTURED-LOCATION;VALUE=URI;X-ADDRESS=150 Caledonian Road\, Londo
 n\, N1 9RD\, United Kingdom;X-APPLE-RADIUS=100;X-TITLE=The Practice Rooms 
 Islington:geo:0,0
END:VEVENT
BEGIN:VTIMEZONE
TZID:Europe/London
X-LIC-LOCATION:Europe/London
BEGIN:STANDARD
DTSTART:20241027T010000
TZOFFSETFROM:+0100
TZOFFSETTO:+0000
TZNAME:GMT
END:STANDARD
END:VTIMEZONE
END:VCALENDAR