BEGIN:VCALENDAR
VERSION:2.0
PRODID:-//wp-events-plugin.com//7.2.3.1//EN
TZID:America/Los_Angeles
X-WR-TIMEZONE:America/Los_Angeles
BEGIN:VEVENT
UID:5978@treglobal.org
DTSTART;TZID=Europe/London:20240120T140000
DTEND;TZID=Europe/London:20240120T160000
DTSTAMP:20240108T161139Z
URL:https://treglobal.org/event/tre-group-workshop-in-person-with-chandani
 -statesofhealing-london-uk-5/
SUMMARY:TRE Group Workshop (In-Person) with Chandani @statesofhealing\, Lon
 don UK
DESCRIPTION:This workshop is designed to introduce you to this wonderful pr
 actice.  Further details and booking can be found here: https://treintrow
 orkshop.eventbrite.co.uk/?aff=treforall\n\nThis practical and interactive 
 workshop includes:\n\n 	What is TRE\, its history &amp\; benefits\n 	A gui
 ded experience of the whole TRE process\n 	Time for reflection\, sharing a
 nd questions\n 	How to start your own TRE practice at home\n 	Follow-up re
 sources\n 	Ongoing support\n\nVisit statesofhealing.com to find out more 
 about TRE and your Certified TRE Provider\, Chandani.\n\nFeel free to get 
 in touch with any questions you have: statesofhealing@gmail.com or message
  @statesofhealing\n\nNote: Tickets are £40 or two for £70. You can save 
 paying Eventbrite fees and book directly with Chandani. Email statesofheal
 ing@gmail.com and you'll be sent a payment link followed by your ticket.
CATEGORIES:Intro Workshops / Recurring Classes / Online Events
LOCATION:Omnom Studio\, Islington Square\, 116N Upper Street\, Islington\, 
 London\, N1 1QP\, London\, N1 1QP\, United States
X-APPLE-STRUCTURED-LOCATION;VALUE=URI;X-ADDRESS=Islington Square\, 116N Upp
 er Street\, Islington\, London\, N1 1QP\, London\, N1 1QP\, United States;
 X-APPLE-RADIUS=100;X-TITLE=Omnom Studio:geo:0,0
END:VEVENT
BEGIN:VTIMEZONE
TZID:Europe/London
X-LIC-LOCATION:Europe/London
BEGIN:STANDARD
DTSTART:20231029T010000
TZOFFSETFROM:+0100
TZOFFSETTO:+0000
TZNAME:GMT
END:STANDARD
END:VTIMEZONE
END:VCALENDAR