BEGIN:VCALENDAR
VERSION:2.0
PRODID:-//wp-events-plugin.com//7.2.3.1//EN
TZID:America/Los_Angeles
X-WR-TIMEZONE:America/Los_Angeles
BEGIN:VEVENT
UID:5830@treglobal.org
DTSTART;TZID=Europe/London:20230429T150000
DTEND;TZID=Europe/London:20230429T180000
DTSTAMP:20230326T174027Z
URL:https://treglobal.org/event/tre-group-workshop-in-person-with-chandani
 -statesofhealing-london-uk-3/
SUMMARY:TRE Group Workshop (In-Person) with Chandani @statesofhealing\, Lon
 don UK
DESCRIPTION:Saturday 29 Apr 2023 3-6pm BST at OMNOM Studio\, N1 1QP\n\nFull
  details &amp\; Booking here\n\n&nbsp\;\n\nThis workshop is designed to in
 troduce you to this wonderful practice. A group setting is a fun and socia
 l way of getting started on your journey with TRE.\n\nThis 3hr practical a
 nd interactive workshop includes:\n\n 	What is TRE\n 	Intro to Polyvagal T
 heory\n 	Vagal toning exercises\n 	A guided experience of the whole TRE pr
 ocess (all exercises plus learning to start and stop tremors)\n 	Time for 
 reflection\, sharing and questions\n 	How to start your own TRE practice a
 t home\n 	Follow-up resources\n 	Ongoing support\n\nVisit statesofhealing
 .com to find out more about TRE and your Certified TRE Provider\, Chandan
 i.\n\nFeel free to get in touch with any questions you have: statesofheal
 ing@gmail.com or message @statesofhealing
CATEGORIES:Intro Workshops / Recurring Classes / Online Events
LOCATION:OmNom\, 116N Islington Square\, Upper Street\, Islington\, London\
 , N1 1QP\, United Kingdom
X-APPLE-STRUCTURED-LOCATION;VALUE=URI;X-ADDRESS=116N Islington Square\, Upp
 er Street\, Islington\, London\, N1 1QP\, United Kingdom;X-APPLE-RADIUS=10
 0;X-TITLE=OmNom:geo:0,0
END:VEVENT
BEGIN:VTIMEZONE
TZID:Europe/London
X-LIC-LOCATION:Europe/London
BEGIN:DAYLIGHT
DTSTART:20230326T020000
TZOFFSETFROM:+0000
TZOFFSETTO:+0100
TZNAME:BST
END:DAYLIGHT
END:VTIMEZONE
END:VCALENDAR