BEGIN:VCALENDAR
VERSION:2.0
PRODID:-//wp-events-plugin.com//7.2.3.1//EN
TZID:America/Los_Angeles
X-WR-TIMEZONE:America/Los_Angeles
BEGIN:VEVENT
UID:6138@treglobal.org
DTSTART;TZID=America/New_York:20250320T191500
DTEND;TZID=America/New_York:20250320T200000
DTSTAMP:20241216T204812Z
URL:https://treglobal.org/event/tre-group-shake-with-bonnie-pariser-4/
SUMMARY:TRE Group Shake with Bonnie Pariser
DESCRIPTION:Learn the easy and helpful technique of TRE (Tension and Trauma
  reducing exercises). The self-regulation method can be done on your own a
 t any time. It is also helpful to tremor with others! New students and exp
 erienced ones are welcome to attend.\nOnline option available (via zoom) u
 pon request once registered for the workshop.\n\nThursday 7:15-8:00 pm EST
 \n\n3/20\n\nTo make TRE accessible to everyone\, we are offering a 'pay-wh
 at-you-can' pricing model\, with options of $10\, $20\, or $30.
CATEGORIES:Intro Workshops / Recurring Classes / Online Events
LOCATION:https://www.yoga-loka.com/%20
END:VEVENT
BEGIN:VTIMEZONE
TZID:America/New_York
X-LIC-LOCATION:America/New_York
BEGIN:DAYLIGHT
DTSTART:20250309T030000
TZOFFSETFROM:-0500
TZOFFSETTO:-0400
TZNAME:EDT
END:DAYLIGHT
END:VTIMEZONE
END:VCALENDAR