BEGIN:VCALENDAR
VERSION:2.0
PRODID:-//wp-events-plugin.com//7.2.3.1//EN
TZID:America/Los_Angeles
X-WR-TIMEZONE:America/Los_Angeles
BEGIN:VEVENT
UID:6085@treglobal.org
DTSTART;TZID=America/New_York:20240814T191500
DTEND;TZID=America/New_York:20240814T200000
DTSTAMP:20240724T155730Z
URL:https://treglobal.org/event/tre-group-shake-wednesday-evening/
SUMMARY:TRE Group Shake Wednesday Evening
DESCRIPTION:Learn the easy and helpful technique of TRE (Tension and Trauma
  reducing exercises). The self-regulation method can be done on your own a
 t any time. It is also helpful to tremor with others! New students and exp
 erienced ones are welcome to attend.\nOnline option available (via zoom) u
 pon request once registered for the workshop.\n\nWednesday  7:15-8:00 pm 
 EST\n\n8/14\n\n$20
CATEGORIES:Intro Workshops / Recurring Classes / Online Events
LOCATION:https://www.yoga-loka.com/workshops.html
END:VEVENT
BEGIN:VTIMEZONE
TZID:America/New_York
X-LIC-LOCATION:America/New_York
BEGIN:DAYLIGHT
DTSTART:20240310T030000
TZOFFSETFROM:-0500
TZOFFSETTO:-0400
TZNAME:EDT
END:DAYLIGHT
END:VTIMEZONE
END:VCALENDAR